BEGIN:VCALENDAR
VERSION:2.0
PRODID:-//Château Pépusque - ECPv6.15.20//NONSGML v1.0//EN
CALSCALE:GREGORIAN
METHOD:PUBLISH
X-WR-CALNAME:Château Pépusque
X-ORIGINAL-URL:https://www.chateau-pepusque.fr
X-WR-CALDESC:Évènements pour Château Pépusque
REFRESH-INTERVAL;VALUE=DURATION:PT1H
X-Robots-Tag:noindex
X-PUBLISHED-TTL:PT1H
BEGIN:VTIMEZONE
TZID:Europe/Paris
BEGIN:DAYLIGHT
TZOFFSETFROM:+0100
TZOFFSETTO:+0200
TZNAME:CEST
DTSTART:20200329T010000
END:DAYLIGHT
BEGIN:STANDARD
TZOFFSETFROM:+0200
TZOFFSETTO:+0100
TZNAME:CET
DTSTART:20201025T010000
END:STANDARD
BEGIN:DAYLIGHT
TZOFFSETFROM:+0100
TZOFFSETTO:+0200
TZNAME:CEST
DTSTART:20210328T010000
END:DAYLIGHT
BEGIN:STANDARD
TZOFFSETFROM:+0200
TZOFFSETTO:+0100
TZNAME:CET
DTSTART:20211031T010000
END:STANDARD
BEGIN:DAYLIGHT
TZOFFSETFROM:+0100
TZOFFSETTO:+0200
TZNAME:CEST
DTSTART:20220327T010000
END:DAYLIGHT
BEGIN:STANDARD
TZOFFSETFROM:+0200
TZOFFSETTO:+0100
TZNAME:CET
DTSTART:20221030T010000
END:STANDARD
END:VTIMEZONE
BEGIN:VEVENT
DTSTART;TZID=Europe/Paris:20210509T100000
DTEND;TZID=Europe/Paris:20210509T160000
DTSTAMP:20260425T052752
CREATED:20210415T090306Z
LAST-MODIFIED:20210421T083348Z
UID:2224-1620554400-1620576000@www.chateau-pepusque.fr
SUMMARY:Dégustation Bordeaux
DESCRIPTION:
URL:https://www.chateau-pepusque.fr/event/degustation-bordeaux/
LOCATION:Domaine de Larchey\, 28\, route de Larchey\, Saint-Médard-d'Eyrans\, 33650\, France
ATTACH;FMTTYPE=image/jpeg:https://www.chateau-pepusque.fr/wp-content/uploads/2021/04/Degustation-Bordeaux.jpg
ORGANIZER;CN="Ch%C3%A2teau P%C3%A9pusque":MAILTO:contact@chateau-pepusque.fr
END:VEVENT
END:VCALENDAR