BEGIN:VCALENDAR
VERSION:2.0
PRODID:-//Château Pépusque - ECPv6.15.20//NONSGML v1.0//EN
CALSCALE:GREGORIAN
METHOD:PUBLISH
X-ORIGINAL-URL:https://www.chateau-pepusque.fr
X-WR-CALDESC:Évènements pour Château Pépusque
REFRESH-INTERVAL;VALUE=DURATION:PT1H
X-Robots-Tag:noindex
X-PUBLISHED-TTL:PT1H
BEGIN:VTIMEZONE
TZID:Europe/Paris
BEGIN:DAYLIGHT
TZOFFSETFROM:+0100
TZOFFSETTO:+0200
TZNAME:CEST
DTSTART:20200329T010000
END:DAYLIGHT
BEGIN:STANDARD
TZOFFSETFROM:+0200
TZOFFSETTO:+0100
TZNAME:CET
DTSTART:20201025T010000
END:STANDARD
BEGIN:DAYLIGHT
TZOFFSETFROM:+0100
TZOFFSETTO:+0200
TZNAME:CEST
DTSTART:20210328T010000
END:DAYLIGHT
BEGIN:STANDARD
TZOFFSETFROM:+0200
TZOFFSETTO:+0100
TZNAME:CET
DTSTART:20211031T010000
END:STANDARD
BEGIN:DAYLIGHT
TZOFFSETFROM:+0100
TZOFFSETTO:+0200
TZNAME:CEST
DTSTART:20220327T010000
END:DAYLIGHT
BEGIN:STANDARD
TZOFFSETFROM:+0200
TZOFFSETTO:+0100
TZNAME:CET
DTSTART:20221030T010000
END:STANDARD
END:VTIMEZONE
BEGIN:VEVENT
DTSTART;TZID=Europe/Paris:20210815T110000
DTEND;TZID=Europe/Paris:20210815T180000
DTSTAMP:20260425T004331
CREATED:20210802T170459Z
LAST-MODIFIED:20210802T170521Z
UID:2629-1629025200-1629050400@www.chateau-pepusque.fr
SUMMARY:La Messe de Pépusque
DESCRIPTION:Pépusquiennes\, Pépusquiens\, \n\n\n\n\nNous avons le plaisir de vous inviter à la première Messe de Pépusque le 15 août à partir de 11h au Château Pépusque\, 3 Rue de l’Egalité à Pépieux ! \n\n\n\n Christophe Urios souhaite réunir sa famille\, ses amis et les amis de Pépusque pour partager un moment de convivialité lors de ce nouveau rendez-vous…\n\n\n\nÀ cette occasion\, nous vous offrirons le foulard de Pépusque que nous porterons tous ! \n\n\nTout le monde est le bienvenu\, l’entrée est gratuite avec au programme :\n• Concert du groupe « Convers’Band » \n• Vente des vins de Pépusque au verre ou à la bouteille \n• Des repas seront disponibles à la vente directement au Château\n\n\n\nDRESS CODE : HAUT BLANC !!! \n\n\n\n Merci de nous confirmer votre présence à l’avance. Le PASS SANITAIRE est OBLIGATOIRE \n\n\n\nNous vous attendons nombreux !
URL:https://www.chateau-pepusque.fr/event/la-messe-de-pepusque/
END:VEVENT
END:VCALENDAR