BEGIN:VCALENDAR
VERSION:2.0
PRODID:-//Château Pépusque - ECPv6.15.20//NONSGML v1.0//EN
CALSCALE:GREGORIAN
METHOD:PUBLISH
X-WR-CALNAME:Château Pépusque
X-ORIGINAL-URL:https://www.chateau-pepusque.fr
X-WR-CALDESC:Évènements pour Château Pépusque
REFRESH-INTERVAL;VALUE=DURATION:PT1H
X-Robots-Tag:noindex
X-PUBLISHED-TTL:PT1H
BEGIN:VTIMEZONE
TZID:Europe/Paris
BEGIN:DAYLIGHT
TZOFFSETFROM:+0100
TZOFFSETTO:+0200
TZNAME:CEST
DTSTART:20200329T010000
END:DAYLIGHT
BEGIN:STANDARD
TZOFFSETFROM:+0200
TZOFFSETTO:+0100
TZNAME:CET
DTSTART:20201025T010000
END:STANDARD
BEGIN:DAYLIGHT
TZOFFSETFROM:+0100
TZOFFSETTO:+0200
TZNAME:CEST
DTSTART:20210328T010000
END:DAYLIGHT
BEGIN:STANDARD
TZOFFSETFROM:+0200
TZOFFSETTO:+0100
TZNAME:CET
DTSTART:20211031T010000
END:STANDARD
BEGIN:DAYLIGHT
TZOFFSETFROM:+0100
TZOFFSETTO:+0200
TZNAME:CEST
DTSTART:20220327T010000
END:DAYLIGHT
BEGIN:STANDARD
TZOFFSETFROM:+0200
TZOFFSETTO:+0100
TZNAME:CET
DTSTART:20221030T010000
END:STANDARD
END:VTIMEZONE
BEGIN:VEVENT
DTSTART;VALUE=DATE:20211126
DTEND;VALUE=DATE:20211129
DTSTAMP:20260424T192456
CREATED:20211102T131302Z
LAST-MODIFIED:20211122T163047Z
UID:3025-1637884800-1638143999@www.chateau-pepusque.fr
SUMMARY:Salon Vins & Gastronomie - Le Mans
DESCRIPTION:L’équipe du Château Pépusque sera présente au Salon Vins & Gastronomie du Mans (Centre des Expositions) du 26 au 28 novembre. \nÀ cette occasion\, nous avons le plaisir de vous inviter à notre stand (C10) pour vous rencontrer autour d’une dégustation et vente de nos vins du Minervois et Minervois La Livinière.  \nVeuillez trouver ci-dessous un lien pour télécharger une invitation gratuite pour deux personnes : https://yurplan.com/event/Salon-Vins-Gastronomie-du-Mans-2021/68877/tickets?code=EXP21 \nLes horaires d’ouvertures : \nVendredi 26 novembre : 17h – 21h \nSamedi 27 novembre : 10h – 19h \nDimanche 28 novembre : 10h – 18h
URL:https://www.chateau-pepusque.fr/event/salon-vins-gastronomie-le-mans/
END:VEVENT
END:VCALENDAR