BEGIN:VCALENDAR
VERSION:2.0
PRODID:-//Château Pépusque - ECPv6.15.20//NONSGML v1.0//EN
CALSCALE:GREGORIAN
METHOD:PUBLISH
X-WR-CALNAME:Château Pépusque
X-ORIGINAL-URL:https://www.chateau-pepusque.fr
X-WR-CALDESC:Évènements pour Château Pépusque
REFRESH-INTERVAL;VALUE=DURATION:PT1H
X-Robots-Tag:noindex
X-PUBLISHED-TTL:PT1H
BEGIN:VTIMEZONE
TZID:Europe/Paris
BEGIN:DAYLIGHT
TZOFFSETFROM:+0100
TZOFFSETTO:+0200
TZNAME:CEST
DTSTART:20210328T010000
END:DAYLIGHT
BEGIN:STANDARD
TZOFFSETFROM:+0200
TZOFFSETTO:+0100
TZNAME:CET
DTSTART:20211031T010000
END:STANDARD
BEGIN:DAYLIGHT
TZOFFSETFROM:+0100
TZOFFSETTO:+0200
TZNAME:CEST
DTSTART:20220327T010000
END:DAYLIGHT
BEGIN:STANDARD
TZOFFSETFROM:+0200
TZOFFSETTO:+0100
TZNAME:CET
DTSTART:20221030T010000
END:STANDARD
BEGIN:DAYLIGHT
TZOFFSETFROM:+0100
TZOFFSETTO:+0200
TZNAME:CEST
DTSTART:20230326T010000
END:DAYLIGHT
BEGIN:STANDARD
TZOFFSETFROM:+0200
TZOFFSETTO:+0100
TZNAME:CET
DTSTART:20231029T010000
END:STANDARD
END:VTIMEZONE
BEGIN:VEVENT
DTSTART;VALUE=DATE:20220325
DTEND;VALUE=DATE:20220328
DTSTAMP:20260424T125245
CREATED:20220301T130146Z
LAST-MODIFIED:20220321T084910Z
UID:3340-1648166400-1648425599@www.chateau-pepusque.fr
SUMMARY:Salon Vins & Gastronomie - Oyonnax
DESCRIPTION:Venez nous rencontrer & déguster nos vins du Minervois & Minervois La Livinière lors du Salon Vins & Gastronomie au ValExpo à Oyonnax du 25 au 27 mars 2022. \nLes horaires d’ouvertures : \nVendredi 25 mars : 15h-21h \nSamedi 26 mars : 10h – 20h \nDimanche 27 mars : 10h-18h \nTéléchargez votre invitation pour 2 personnes.
URL:https://www.chateau-pepusque.fr/event/salon-vins-gastronomie-oyonnax/
END:VEVENT
END:VCALENDAR