BEGIN:VCALENDAR
VERSION:2.0
PRODID:-//Château Pépusque - ECPv6.15.20//NONSGML v1.0//EN
CALSCALE:GREGORIAN
METHOD:PUBLISH
X-WR-CALNAME:Château Pépusque
X-ORIGINAL-URL:https://www.chateau-pepusque.fr
X-WR-CALDESC:Évènements pour Château Pépusque
REFRESH-INTERVAL;VALUE=DURATION:PT1H
X-Robots-Tag:noindex
X-PUBLISHED-TTL:PT1H
BEGIN:VTIMEZONE
TZID:Europe/Paris
BEGIN:DAYLIGHT
TZOFFSETFROM:+0100
TZOFFSETTO:+0200
TZNAME:CEST
DTSTART:20210328T010000
END:DAYLIGHT
BEGIN:STANDARD
TZOFFSETFROM:+0200
TZOFFSETTO:+0100
TZNAME:CET
DTSTART:20211031T010000
END:STANDARD
BEGIN:DAYLIGHT
TZOFFSETFROM:+0100
TZOFFSETTO:+0200
TZNAME:CEST
DTSTART:20220327T010000
END:DAYLIGHT
BEGIN:STANDARD
TZOFFSETFROM:+0200
TZOFFSETTO:+0100
TZNAME:CET
DTSTART:20221030T010000
END:STANDARD
BEGIN:DAYLIGHT
TZOFFSETFROM:+0100
TZOFFSETTO:+0200
TZNAME:CEST
DTSTART:20230326T010000
END:DAYLIGHT
BEGIN:STANDARD
TZOFFSETFROM:+0200
TZOFFSETTO:+0100
TZNAME:CET
DTSTART:20231029T010000
END:STANDARD
END:VTIMEZONE
BEGIN:VEVENT
DTSTART;TZID=Europe/Paris:20220527T000000
DTEND;TZID=Europe/Paris:20220529T000000
DTSTAMP:20260424T095741
CREATED:20220527T092008Z
LAST-MODIFIED:20220527T092618Z
UID:3436-1653609600-1653782400@www.chateau-pepusque.fr
SUMMARY:Festival des Vins & de la Gastronomie - Monein
DESCRIPTION:Le Château Pépusque sera présent au Festival des vins & de la Gastronomie de Monein. \nVenez déguster nos vins du Minervois et Minervois La Livinière ! 🍷 \nTéléchargez votre invitation  : Invitation – Festival des Vins de Monein \nHoraires : \n\nVendredi 27 mai : 17h – 22h\nSamedi 28 mai : 10h – 20h\nDimanche 29 mai : 10h – 18h\n\n  \n 
URL:https://www.chateau-pepusque.fr/event/festival-des-vins-de-la-gastronomie-monein/
END:VEVENT
END:VCALENDAR