BEGIN:VCALENDAR
VERSION:2.0
PRODID:-//Château Pépusque - ECPv6.15.20//NONSGML v1.0//EN
CALSCALE:GREGORIAN
METHOD:PUBLISH
X-ORIGINAL-URL:https://www.chateau-pepusque.fr
X-WR-CALDESC:Évènements pour Château Pépusque
REFRESH-INTERVAL;VALUE=DURATION:PT1H
X-Robots-Tag:noindex
X-PUBLISHED-TTL:PT1H
BEGIN:VTIMEZONE
TZID:Europe/Paris
BEGIN:DAYLIGHT
TZOFFSETFROM:+0100
TZOFFSETTO:+0200
TZNAME:CEST
DTSTART:20210328T010000
END:DAYLIGHT
BEGIN:STANDARD
TZOFFSETFROM:+0200
TZOFFSETTO:+0100
TZNAME:CET
DTSTART:20211031T010000
END:STANDARD
BEGIN:DAYLIGHT
TZOFFSETFROM:+0100
TZOFFSETTO:+0200
TZNAME:CEST
DTSTART:20220327T010000
END:DAYLIGHT
BEGIN:STANDARD
TZOFFSETFROM:+0200
TZOFFSETTO:+0100
TZNAME:CET
DTSTART:20221030T010000
END:STANDARD
BEGIN:DAYLIGHT
TZOFFSETFROM:+0100
TZOFFSETTO:+0200
TZNAME:CEST
DTSTART:20230326T010000
END:DAYLIGHT
BEGIN:STANDARD
TZOFFSETFROM:+0200
TZOFFSETTO:+0100
TZNAME:CET
DTSTART:20231029T010000
END:STANDARD
END:VTIMEZONE
BEGIN:VEVENT
DTSTART;VALUE=DATE:20220702
DTEND;VALUE=DATE:20220703
DTSTAMP:20260424T071514
CREATED:20220609T084027Z
LAST-MODIFIED:20220609T084045Z
UID:3462-1656720000-1656806399@www.chateau-pepusque.fr
SUMMARY:Le Festival de Pépusque - Journée Terroir
DESCRIPTION:Festival de Pépusque : les inscriptions sont ouvertes !  \n Tenez-vous prêts\, Christophe Urios organise le Festival de Pépusque du 1er au 3 juillet 2022. Retrouvez en images le programme complet de la journée « Terroir » !  \nSamedi 02 juillet : \n9h – 13h : Le Marché de Pépusque (entrée libre & gratuite) \n16h : Les Olympiades de Pépusque (sur inscription\, gratuit) \n20h : Soirée « Braséro » – 20€ par personne (sur inscription) \n\nBandas – Les Phacochères de Malepère\nBuffet de charcuteries\n\nDress code : ROSE \nInscription obligatoire \n Inscrivez-vous dès maintenant : \n 06 13 16 03 44 \n contact@chateau-pepusque.fr
URL:https://www.chateau-pepusque.fr/event/le-festival-de-pepusque-journee-terroir-2/
END:VEVENT
END:VCALENDAR