BEGIN:VCALENDAR
VERSION:2.0
PRODID:-//Château Pépusque - ECPv6.15.20//NONSGML v1.0//EN
CALSCALE:GREGORIAN
METHOD:PUBLISH
X-ORIGINAL-URL:https://www.chateau-pepusque.fr
X-WR-CALDESC:Évènements pour Château Pépusque
REFRESH-INTERVAL;VALUE=DURATION:PT1H
X-Robots-Tag:noindex
X-PUBLISHED-TTL:PT1H
BEGIN:VTIMEZONE
TZID:Europe/Paris
BEGIN:DAYLIGHT
TZOFFSETFROM:+0100
TZOFFSETTO:+0200
TZNAME:CEST
DTSTART:20220327T010000
END:DAYLIGHT
BEGIN:STANDARD
TZOFFSETFROM:+0200
TZOFFSETTO:+0100
TZNAME:CET
DTSTART:20221030T010000
END:STANDARD
BEGIN:DAYLIGHT
TZOFFSETFROM:+0100
TZOFFSETTO:+0200
TZNAME:CEST
DTSTART:20230326T010000
END:DAYLIGHT
BEGIN:STANDARD
TZOFFSETFROM:+0200
TZOFFSETTO:+0100
TZNAME:CET
DTSTART:20231029T010000
END:STANDARD
BEGIN:DAYLIGHT
TZOFFSETFROM:+0100
TZOFFSETTO:+0200
TZNAME:CEST
DTSTART:20240331T010000
END:DAYLIGHT
BEGIN:STANDARD
TZOFFSETFROM:+0200
TZOFFSETTO:+0100
TZNAME:CET
DTSTART:20241027T010000
END:STANDARD
END:VTIMEZONE
BEGIN:VEVENT
DTSTART;VALUE=DATE:20230331
DTEND;VALUE=DATE:20230403
DTSTAMP:20260423T171358
CREATED:20230216T123623Z
LAST-MODIFIED:20230321T110522Z
UID:3721-1680220800-1680479999@www.chateau-pepusque.fr
SUMMARY:Aux Vignobles - Metz
DESCRIPTION:Du 31 mars au 2 avril\, le Salon Aux Vignoble ! 2023 fait étape à Metz\, où il s’ouvre\, à nouveau\, sur le monde de l’artisanat gastronomique et viticole. Pour cette 23e édition de l’événement\, 90 artisans et producteurs venus de toute la France donnent rendez-vous aux gourmands\, gourmets ou simples curieux. \nChaque terroir développe en permanence des produits de caractère\, issus de savoir-faire uniques que chaque exposant viendra défendre avec passion. Savamment agencés\, leurs stands promettent d’offrir aux regards\, comme à la dégustation\, une multitude de gourmandises aux saveurs originales et variées (chocolats ou thés\, charcuterie ou fromages\, vins bio\, artisanaux ou d’appellation d’origine). \nTéléchargez vos invitations pour nous retrouver \nDates & Horaires \nLe vendredi 31 mars de 10h à 20h \nLe samedi 1er avril de 10h à 20h\nLe dimanche 2 avril de 10h à 18h \nLieu \nMetz Expo\nRue de la Grange aux bois\n57070 Metz\nmetz-expo.com \n \n 
URL:https://www.chateau-pepusque.fr/event/aux-vignobles-metz/
END:VEVENT
END:VCALENDAR