BEGIN:VCALENDAR
VERSION:2.0
PRODID:-//Château Pépusque - ECPv6.15.20//NONSGML v1.0//EN
CALSCALE:GREGORIAN
METHOD:PUBLISH
X-ORIGINAL-URL:https://www.chateau-pepusque.fr
X-WR-CALDESC:Évènements pour Château Pépusque
REFRESH-INTERVAL;VALUE=DURATION:PT1H
X-Robots-Tag:noindex
X-PUBLISHED-TTL:PT1H
BEGIN:VTIMEZONE
TZID:Europe/Paris
BEGIN:DAYLIGHT
TZOFFSETFROM:+0100
TZOFFSETTO:+0200
TZNAME:CEST
DTSTART:20220327T010000
END:DAYLIGHT
BEGIN:STANDARD
TZOFFSETFROM:+0200
TZOFFSETTO:+0100
TZNAME:CET
DTSTART:20221030T010000
END:STANDARD
BEGIN:DAYLIGHT
TZOFFSETFROM:+0100
TZOFFSETTO:+0200
TZNAME:CEST
DTSTART:20230326T010000
END:DAYLIGHT
BEGIN:STANDARD
TZOFFSETFROM:+0200
TZOFFSETTO:+0100
TZNAME:CET
DTSTART:20231029T010000
END:STANDARD
BEGIN:DAYLIGHT
TZOFFSETFROM:+0100
TZOFFSETTO:+0200
TZNAME:CEST
DTSTART:20240331T010000
END:DAYLIGHT
BEGIN:STANDARD
TZOFFSETFROM:+0200
TZOFFSETTO:+0100
TZNAME:CET
DTSTART:20241027T010000
END:STANDARD
END:VTIMEZONE
BEGIN:VEVENT
DTSTART;TZID=Europe/Paris:20230430T110000
DTEND;TZID=Europe/Paris:20230430T150000
DTSTAMP:20260423T171337
CREATED:20230412T075710Z
LAST-MODIFIED:20230412T075856Z
UID:3766-1682852400-1682866800@www.chateau-pepusque.fr
SUMMARY:Messe - MARCO / REBELLE
DESCRIPTION:MESSE – MARCO / REBELLE \nNous avons le plaisir de vous convier à notre Messe avec Christophe Urios le dimanche 30 avril de 11h à 15h. Pour partager cette journée de convivialité\, Le Camion Qui Grille et le groupe de musique « Chic Wah Wah » seront à nos côtés pour assurer une ambiance festive. \nDress code : Jaune & Bleu \nInscription obligatoire  : contact@chateau-pepusque.fr ou 06 13 16 03 44 \nBelle journée\, \nToute l’équipe du Château Pépusque
URL:https://www.chateau-pepusque.fr/event/messe-marco-rebelle/
END:VEVENT
END:VCALENDAR