BEGIN:VCALENDAR
VERSION:2.0
PRODID:-//Château Pépusque - ECPv6.15.20//NONSGML v1.0//EN
CALSCALE:GREGORIAN
METHOD:PUBLISH
X-ORIGINAL-URL:https://www.chateau-pepusque.fr
X-WR-CALDESC:Évènements pour Château Pépusque
REFRESH-INTERVAL;VALUE=DURATION:PT1H
X-Robots-Tag:noindex
X-PUBLISHED-TTL:PT1H
BEGIN:VTIMEZONE
TZID:Europe/Paris
BEGIN:DAYLIGHT
TZOFFSETFROM:+0100
TZOFFSETTO:+0200
TZNAME:CEST
DTSTART:20220327T010000
END:DAYLIGHT
BEGIN:STANDARD
TZOFFSETFROM:+0200
TZOFFSETTO:+0100
TZNAME:CET
DTSTART:20221030T010000
END:STANDARD
BEGIN:DAYLIGHT
TZOFFSETFROM:+0100
TZOFFSETTO:+0200
TZNAME:CEST
DTSTART:20230326T010000
END:DAYLIGHT
BEGIN:STANDARD
TZOFFSETFROM:+0200
TZOFFSETTO:+0100
TZNAME:CET
DTSTART:20231029T010000
END:STANDARD
BEGIN:DAYLIGHT
TZOFFSETFROM:+0100
TZOFFSETTO:+0200
TZNAME:CEST
DTSTART:20240331T010000
END:DAYLIGHT
BEGIN:STANDARD
TZOFFSETFROM:+0200
TZOFFSETTO:+0100
TZNAME:CET
DTSTART:20241027T010000
END:STANDARD
END:VTIMEZONE
BEGIN:VEVENT
DTSTART;TZID=Europe/Paris:20230510T180000
DTEND;TZID=Europe/Paris:20230510T220000
DTSTAMP:20260423T154214
CREATED:20230427T082114Z
LAST-MODIFIED:20230427T083635Z
UID:3803-1683741600-1683756000@www.chateau-pepusque.fr
SUMMARY:Le Petit Tablier - Cébazat
DESCRIPTION:LE PETIT TABLIER \nDEGUSTATION – CHÂTEAU PÉPUSQUE \nLe Château Pépusque vous convie le 10 mai à partir de 18h pour une dégustation & vente de vins du Château Pépusque\, en présence de Christophe Urios. \nAu programme : vins\, planches de charcuteries\, aligot… dans un esprit de convivialité et de partage ! \nLe Petit Tablier  \n2 Rue René Panhard \n63 118 CEBAZAT \n Réservation obligatoire – Le Petit Tablier : 06 47 71 36 40 \nPlaces limitées !!! \n 
URL:https://www.chateau-pepusque.fr/event/le-petit-tablier/
END:VEVENT
END:VCALENDAR