BEGIN:VCALENDAR
VERSION:2.0
PRODID:-//Château Pépusque - ECPv6.15.20//NONSGML v1.0//EN
CALSCALE:GREGORIAN
METHOD:PUBLISH
X-ORIGINAL-URL:https://www.chateau-pepusque.fr
X-WR-CALDESC:Évènements pour Château Pépusque
REFRESH-INTERVAL;VALUE=DURATION:PT1H
X-Robots-Tag:noindex
X-PUBLISHED-TTL:PT1H
BEGIN:VTIMEZONE
TZID:Europe/Paris
BEGIN:DAYLIGHT
TZOFFSETFROM:+0100
TZOFFSETTO:+0200
TZNAME:CEST
DTSTART:20220327T010000
END:DAYLIGHT
BEGIN:STANDARD
TZOFFSETFROM:+0200
TZOFFSETTO:+0100
TZNAME:CET
DTSTART:20221030T010000
END:STANDARD
BEGIN:DAYLIGHT
TZOFFSETFROM:+0100
TZOFFSETTO:+0200
TZNAME:CEST
DTSTART:20230326T010000
END:DAYLIGHT
BEGIN:STANDARD
TZOFFSETFROM:+0200
TZOFFSETTO:+0100
TZNAME:CET
DTSTART:20231029T010000
END:STANDARD
BEGIN:DAYLIGHT
TZOFFSETFROM:+0100
TZOFFSETTO:+0200
TZNAME:CEST
DTSTART:20240331T010000
END:DAYLIGHT
BEGIN:STANDARD
TZOFFSETFROM:+0200
TZOFFSETTO:+0100
TZNAME:CET
DTSTART:20241027T010000
END:STANDARD
END:VTIMEZONE
BEGIN:VEVENT
DTSTART;TZID=Europe/Paris:20230520T110000
DTEND;TZID=Europe/Paris:20230520T140000
DTSTAMP:20260423T154152
CREATED:20230512T143135Z
LAST-MODIFIED:20230512T143135Z
UID:3816-1684580400-1684591200@www.chateau-pepusque.fr
SUMMARY:Le Vestiaire - Bayonne
DESCRIPTION:LE VESTIAIRE \nDEGUSTATION – CHÂTEAU PÉPUSQUE \nLe Château Pépusque vous convie le 20 mai à partir de 11h pour une dégustation & vente de vins du Château Pépusque\, en présence de Christophe Urios. \nRendez-vous avec l’équipe de Pépusque ici : \nLe Vestiaire \n2 Rue d’Espagne \n64100 Bayonne \n 
URL:https://www.chateau-pepusque.fr/event/le-vestiaire-bayonne/
END:VEVENT
END:VCALENDAR