BEGIN:VCALENDAR
VERSION:2.0
PRODID:-//Château Pépusque - ECPv6.15.20//NONSGML v1.0//EN
CALSCALE:GREGORIAN
METHOD:PUBLISH
X-WR-CALNAME:Château Pépusque
X-ORIGINAL-URL:https://www.chateau-pepusque.fr
X-WR-CALDESC:Évènements pour Château Pépusque
REFRESH-INTERVAL;VALUE=DURATION:PT1H
X-Robots-Tag:noindex
X-PUBLISHED-TTL:PT1H
BEGIN:VTIMEZONE
TZID:Europe/Paris
BEGIN:DAYLIGHT
TZOFFSETFROM:+0100
TZOFFSETTO:+0200
TZNAME:CEST
DTSTART:20220327T010000
END:DAYLIGHT
BEGIN:STANDARD
TZOFFSETFROM:+0200
TZOFFSETTO:+0100
TZNAME:CET
DTSTART:20221030T010000
END:STANDARD
BEGIN:DAYLIGHT
TZOFFSETFROM:+0100
TZOFFSETTO:+0200
TZNAME:CEST
DTSTART:20230326T010000
END:DAYLIGHT
BEGIN:STANDARD
TZOFFSETFROM:+0200
TZOFFSETTO:+0100
TZNAME:CET
DTSTART:20231029T010000
END:STANDARD
BEGIN:DAYLIGHT
TZOFFSETFROM:+0100
TZOFFSETTO:+0200
TZNAME:CEST
DTSTART:20240331T010000
END:DAYLIGHT
BEGIN:STANDARD
TZOFFSETFROM:+0200
TZOFFSETTO:+0100
TZNAME:CET
DTSTART:20241027T010000
END:STANDARD
END:VTIMEZONE
BEGIN:VEVENT
DTSTART;TZID=Europe/Paris:20230728T190000
DTEND;TZID=Europe/Paris:20230728T210000
DTSTAMP:20260423T130721
CREATED:20230719T073503Z
LAST-MODIFIED:20230719T073503Z
UID:3912-1690570800-1690578000@www.chateau-pepusque.fr
SUMMARY:Repas dans les vignes - Château Pépusque
DESCRIPTION:REPAS DANS LES VIGNES  – CHÂTEAU PEPUSQUE \n(35€/personne) \nRendez-vous le vendredi 28 juillet à partir de 19h au Château Pépusque pour un repas dans nos vignes avec une paëlla. \nRéservation obligatoire. \nPlus d’informations & réservation : 06 13 16 03 44
URL:https://www.chateau-pepusque.fr/event/repas-dans-les-vignes-chateau-pepusque-2/
END:VEVENT
END:VCALENDAR