BEGIN:VCALENDAR
VERSION:2.0
PRODID:-//Château Pépusque - ECPv6.15.20//NONSGML v1.0//EN
CALSCALE:GREGORIAN
METHOD:PUBLISH
X-ORIGINAL-URL:https://www.chateau-pepusque.fr
X-WR-CALDESC:Évènements pour Château Pépusque
REFRESH-INTERVAL;VALUE=DURATION:PT1H
X-Robots-Tag:noindex
X-PUBLISHED-TTL:PT1H
BEGIN:VTIMEZONE
TZID:Europe/Paris
BEGIN:DAYLIGHT
TZOFFSETFROM:+0100
TZOFFSETTO:+0200
TZNAME:CEST
DTSTART:20220327T010000
END:DAYLIGHT
BEGIN:STANDARD
TZOFFSETFROM:+0200
TZOFFSETTO:+0100
TZNAME:CET
DTSTART:20221030T010000
END:STANDARD
BEGIN:DAYLIGHT
TZOFFSETFROM:+0100
TZOFFSETTO:+0200
TZNAME:CEST
DTSTART:20230326T010000
END:DAYLIGHT
BEGIN:STANDARD
TZOFFSETFROM:+0200
TZOFFSETTO:+0100
TZNAME:CET
DTSTART:20231029T010000
END:STANDARD
BEGIN:DAYLIGHT
TZOFFSETFROM:+0100
TZOFFSETTO:+0200
TZNAME:CEST
DTSTART:20240331T010000
END:DAYLIGHT
BEGIN:STANDARD
TZOFFSETFROM:+0200
TZOFFSETTO:+0100
TZNAME:CET
DTSTART:20241027T010000
END:STANDARD
END:VTIMEZONE
BEGIN:VEVENT
DTSTART;TZID=Europe/Paris:20231031T140000
DTEND;TZID=Europe/Paris:20231101T180000
DTSTAMP:20260423T075541
CREATED:20231023T150130Z
LAST-MODIFIED:20231024T094716Z
UID:3964-1698760800-1698861600@www.chateau-pepusque.fr
SUMMARY:Marché des Vins & du Terroir - Villefranche-sur-Saône
DESCRIPTION:Nous sommes ravis de vous annoncer la 3ème édition tant attendue du Marché des Vins et du Terroir organisé par l’Amicale Classe 92 et l’Amicale Classe 97\, qui se déroulera les 31 octobre et 01 novembre 2023 au Marché Couvert de Villefranche-sur-Saône.\nCe sera deux jours dédiés à la découverte des trésors gustatifs de la France et d’ailleurs. Attendez vous à une expérience sensorielle inoubliable avec :\n\n– Dégustations de Vins : Plongez dans l’univers des vins\, en particulier du Beaujolais\, et explorez une sélection raffinée qui éveillera vos papilles.\n– Produits du Terroir : Des exposants venus de toutes les régions de France et du monde vous proposeront une variété de produits du terroir à savourer.\n– Soirée VIP avec Surprises : Pour couronner le tout\, une soirée VIP spéciale est prévue le 31 octobre avec des surprises qui vous attendent tout au long de la nuit.\n\nNe manquez pas cet événement festif\, où vous pourrez nous retrouver et déguster nos vins de terroir.
URL:https://www.chateau-pepusque.fr/event/marche-des-vins-du-terroir/
LOCATION:Marché couvert de Villefranche-sur-Saône\, Place du 11 Novembre\, Villefranche-sur-Saône\, 69400\, France
END:VEVENT
END:VCALENDAR