BEGIN:VCALENDAR
VERSION:2.0
PRODID:-//Château Pépusque - ECPv6.15.20//NONSGML v1.0//EN
CALSCALE:GREGORIAN
METHOD:PUBLISH
X-ORIGINAL-URL:https://www.chateau-pepusque.fr
X-WR-CALDESC:Évènements pour Château Pépusque
REFRESH-INTERVAL;VALUE=DURATION:PT1H
X-Robots-Tag:noindex
X-PUBLISHED-TTL:PT1H
BEGIN:VTIMEZONE
TZID:Europe/Paris
BEGIN:DAYLIGHT
TZOFFSETFROM:+0100
TZOFFSETTO:+0200
TZNAME:CEST
DTSTART:20220327T010000
END:DAYLIGHT
BEGIN:STANDARD
TZOFFSETFROM:+0200
TZOFFSETTO:+0100
TZNAME:CET
DTSTART:20221030T010000
END:STANDARD
BEGIN:DAYLIGHT
TZOFFSETFROM:+0100
TZOFFSETTO:+0200
TZNAME:CEST
DTSTART:20230326T010000
END:DAYLIGHT
BEGIN:STANDARD
TZOFFSETFROM:+0200
TZOFFSETTO:+0100
TZNAME:CET
DTSTART:20231029T010000
END:STANDARD
BEGIN:DAYLIGHT
TZOFFSETFROM:+0100
TZOFFSETTO:+0200
TZNAME:CEST
DTSTART:20240331T010000
END:DAYLIGHT
BEGIN:STANDARD
TZOFFSETFROM:+0200
TZOFFSETTO:+0100
TZNAME:CET
DTSTART:20241027T010000
END:STANDARD
END:VTIMEZONE
BEGIN:VEVENT
DTSTART;TZID=Europe/Paris:20231105T113000
DTEND;TZID=Europe/Paris:20231105T153000
DTSTAMP:20260423T075643
CREATED:20231013T133312Z
LAST-MODIFIED:20231013T133312Z
UID:3954-1699183800-1699198200@www.chateau-pepusque.fr
SUMMARY:Messe des Vendanges 2023
DESCRIPTION:MESSE DES VENDANGES 2023 \nNous avons l’immense plaisir de vous convier à notre messe le dimanche 5 novembre 2023 dès 11h30. Venez passer un agréable moment en compagnie de Christophe Urios et son équipe. \nAu programme : \n\nUn repas avec comme entrée son plateau de charcuterie\, un confit de canard accompagné de son gratin dauphinois.\nambiance et musique par le groupe narbonnais Eko Eko\n25€ par personne.\n\nRéservation et inscription obligatoires au : \n06 18 47 57 40 ou contact@chateau-pepusque.fr \n 
URL:https://www.chateau-pepusque.fr/event/messe-des-vendanges-2023/
END:VEVENT
END:VCALENDAR