BEGIN:VCALENDAR
VERSION:2.0
PRODID:-//Château Pépusque - ECPv6.15.20//NONSGML v1.0//EN
CALSCALE:GREGORIAN
METHOD:PUBLISH
X-WR-CALNAME:Château Pépusque
X-ORIGINAL-URL:https://www.chateau-pepusque.fr
X-WR-CALDESC:Évènements pour Château Pépusque
REFRESH-INTERVAL;VALUE=DURATION:PT1H
X-Robots-Tag:noindex
X-PUBLISHED-TTL:PT1H
BEGIN:VTIMEZONE
TZID:Europe/Paris
BEGIN:DAYLIGHT
TZOFFSETFROM:+0100
TZOFFSETTO:+0200
TZNAME:CEST
DTSTART:20220327T010000
END:DAYLIGHT
BEGIN:STANDARD
TZOFFSETFROM:+0200
TZOFFSETTO:+0100
TZNAME:CET
DTSTART:20221030T010000
END:STANDARD
BEGIN:DAYLIGHT
TZOFFSETFROM:+0100
TZOFFSETTO:+0200
TZNAME:CEST
DTSTART:20230326T010000
END:DAYLIGHT
BEGIN:STANDARD
TZOFFSETFROM:+0200
TZOFFSETTO:+0100
TZNAME:CET
DTSTART:20231029T010000
END:STANDARD
BEGIN:DAYLIGHT
TZOFFSETFROM:+0100
TZOFFSETTO:+0200
TZNAME:CEST
DTSTART:20240331T010000
END:DAYLIGHT
BEGIN:STANDARD
TZOFFSETFROM:+0200
TZOFFSETTO:+0100
TZNAME:CET
DTSTART:20241027T010000
END:STANDARD
END:VTIMEZONE
BEGIN:VEVENT
DTSTART;VALUE=DATE:20231110
DTEND;VALUE=DATE:20231114
DTSTAMP:20260423T075226
CREATED:20230823T150130Z
LAST-MODIFIED:20230823T150130Z
UID:3931-1699574400-1699919999@www.chateau-pepusque.fr
SUMMARY:Aux Vignobles - Brest 2023
DESCRIPTION:AUX VIGNOBLES ! BREST 2023 \nDu 10 au 13 novembre\, le Salon Aux Vignobles ! fait étape à Brest\, où il s’ouvre\, à nouveau\, sur le monde de l’artisanat gastronomique et viticole. Pour cette 39e édition de l’événement\, 265 artisans et producteurs venus de toute la France donnent rendez-vous aux gourmands\, gourmets ou simples curieux. \nÀ cette occasion\, le Château Pépusque sera présent au stand E38 pour vous faire découvrir nos vins du Minervois & Cru La Livinière ! \nChaque terroir développe en permanence des produits de caractère\, issus de savoir-faire uniques que chaque exposant viendra défendre avec passion. Savamment agencés\, leurs stands promettent d’offrir aux regards\, comme à la dégustation\, une multitude de gourmandises aux saveurs originales et variées (chocolats ou thés\, charcuterie ou fromages\, vins bio\, artisanaux ou d’appellation d’origine). \nTéléchargez vos invitations ici \n\n\n\n\n\n\n\n\nDATES ET HORAIRES\n\n\n\n\nVendredi 10 novembre : 10h – 20h \nSamedi 11 novembre : 10h -20h \nDimanche 12 novembre : 10h – 19h \nLundi 13 novembre : 10h – 17h \n\n\n\n\nLIEU\n\n\n\n\nBrest Expo – Parc de Penfeld\nRoute de Brest\n29820 Guilers \n\n\n\n\n\n\n\n\n  \nA très vite ! \nL’équipe du Château Pépusque
URL:https://www.chateau-pepusque.fr/event/aux-vignobles-brest-2023/
END:VEVENT
BEGIN:VEVENT
DTSTART;VALUE=DATE:20231110
DTEND;VALUE=DATE:20231113
DTSTAMP:20260423T075226
CREATED:20231024T072423Z
LAST-MODIFIED:20231024T072423Z
UID:3969-1699574400-1699833599@www.chateau-pepusque.fr
SUMMARY:Salon des Vins & du Terroir - Clerlande
DESCRIPTION:Nous sommes ravis de vous annoncer que l’équipe du Château Pépusque va participer à la 17ème édition du Salon des vins & du Terroir\, à Clerlande. \nLe salon des vins et tentations du terroir reste la grande réussite du club d’œnologie « Les papilles de Clerlande ». Aujourd’hui c’est 45 exposants et des milliers de visiteurs sur le week-end du salon. \n« Les Papilles » c’est aussi des voyages dans les vignobles\, des visites de caves\, l’accueil de vignerons qui présentent leurs productions\, des accords mets et vins dans des restaurants. \nConvivialité\, générosité et solidarité sont les maîtres mots de ce salon. \nA très vite ! \nL’équipe du Château Pépusque
URL:https://www.chateau-pepusque.fr/event/salon-des-vins-du-terroir-clerlande/
LOCATION:Aux anciens Haras\, Chemin des écoliers\, Clerlande\, 63720\, France
END:VEVENT
END:VCALENDAR