BEGIN:VCALENDAR
VERSION:2.0
PRODID:-//Château Pépusque - ECPv6.15.20//NONSGML v1.0//EN
CALSCALE:GREGORIAN
METHOD:PUBLISH
X-WR-CALNAME:Château Pépusque
X-ORIGINAL-URL:https://www.chateau-pepusque.fr
X-WR-CALDESC:Évènements pour Château Pépusque
REFRESH-INTERVAL;VALUE=DURATION:PT1H
X-Robots-Tag:noindex
X-PUBLISHED-TTL:PT1H
BEGIN:VTIMEZONE
TZID:Europe/Paris
BEGIN:DAYLIGHT
TZOFFSETFROM:+0100
TZOFFSETTO:+0200
TZNAME:CEST
DTSTART:20220327T010000
END:DAYLIGHT
BEGIN:STANDARD
TZOFFSETFROM:+0200
TZOFFSETTO:+0100
TZNAME:CET
DTSTART:20221030T010000
END:STANDARD
BEGIN:DAYLIGHT
TZOFFSETFROM:+0100
TZOFFSETTO:+0200
TZNAME:CEST
DTSTART:20230326T010000
END:DAYLIGHT
BEGIN:STANDARD
TZOFFSETFROM:+0200
TZOFFSETTO:+0100
TZNAME:CET
DTSTART:20231029T010000
END:STANDARD
BEGIN:DAYLIGHT
TZOFFSETFROM:+0100
TZOFFSETTO:+0200
TZNAME:CEST
DTSTART:20240331T010000
END:DAYLIGHT
BEGIN:STANDARD
TZOFFSETFROM:+0200
TZOFFSETTO:+0100
TZNAME:CET
DTSTART:20241027T010000
END:STANDARD
END:VTIMEZONE
BEGIN:VEVENT
DTSTART;VALUE=DATE:20231117
DTEND;VALUE=DATE:20231120
DTSTAMP:20260423T092641
CREATED:20231107T103058Z
LAST-MODIFIED:20231107T103058Z
UID:3982-1700179200-1700438399@www.chateau-pepusque.fr
SUMMARY:En route pour Noël - Oyonnax 2023
DESCRIPTION:Cette année encore\, commencez votre plongée dans l’univers magique des fêtes de fin d’année avec le retour du salon « EN ROUTE POUR NOËL » ! Décoration\, jouets\, bijoux\, produits de beauté ou gastronomie\, tous les goûts seront comblés ! \nL’évènement s’installe dans le grand hall de Valexpo entièrement rénové et accueillera près de 100 exposants sur 3 000m².\nDiversité\, qualité des produits et animations proposées dans ses différentes allées sont autant d’atouts qui sauront à coup sûr vous immerger dans un monde festif et féerique\, en attendant les fêtes de fin d’année. \nCommencez votre plongée dans l’univers magique des fêtes les 17\, 18 et 19 novembre ! \nVous pourrez nous y rejoindre pour découvrir et déguster nos vins « Haute valeur environnementale » et « Terra Vitis« . \nNous sommes impatients de vous retrouver\, \nA très vite ! \nL’équipe du Château Pépusque.
URL:https://www.chateau-pepusque.fr/event/en-route-pour-noel-oyonnax-2023/
LOCATION:Valexpo\, 88 cours de Verdun\, Oyonnax\, 01110\, France
END:VEVENT
BEGIN:VEVENT
DTSTART;VALUE=DATE:20231117
DTEND;VALUE=DATE:20231121
DTSTAMP:20260423T092641
CREATED:20231107T103905Z
LAST-MODIFIED:20231107T103905Z
UID:3986-1700179200-1700524799@www.chateau-pepusque.fr
SUMMARY:Salon des Vins & Gastronomie - Gex
DESCRIPTION:Le Château Pépusque participe à la 28ème édition du Salon des Vins & Gastronomie du Pays de Gex\, qui se déroulera du Vendredi 17 Novembre au Lundi 20 Novembre 2023. \nSur ce salon\, vous pourrez choisir et déguster divers vins et préparer vos menus de fêtes avec un large choix de produits de terroir. \nPrivilégiez la vente directe des producteurs en venant faire vos achats au Salon\, et découvrez nos vins de terroir certifiés « Haute Valeur Environnementale » et « Terra Vitis« . \nEn espérant vous y voir nombreux et pouvoir profiter d’un moment convivial\, \nA très vite ! \nL’équipe du Château Pépusque.
URL:https://www.chateau-pepusque.fr/event/salon-des-vins-gastronomie-gex/
LOCATION:Espace Perdtemps\, Avenue Perdtemps\, Gex\, 01170\, France
END:VEVENT
END:VCALENDAR