BEGIN:VCALENDAR
VERSION:2.0
PRODID:-//Château Pépusque - ECPv6.15.20//NONSGML v1.0//EN
CALSCALE:GREGORIAN
METHOD:PUBLISH
X-WR-CALNAME:Château Pépusque
X-ORIGINAL-URL:https://www.chateau-pepusque.fr
X-WR-CALDESC:Évènements pour Château Pépusque
REFRESH-INTERVAL;VALUE=DURATION:PT1H
X-Robots-Tag:noindex
X-PUBLISHED-TTL:PT1H
BEGIN:VTIMEZONE
TZID:Europe/Paris
BEGIN:DAYLIGHT
TZOFFSETFROM:+0100
TZOFFSETTO:+0200
TZNAME:CEST
DTSTART:20230326T010000
END:DAYLIGHT
BEGIN:STANDARD
TZOFFSETFROM:+0200
TZOFFSETTO:+0100
TZNAME:CET
DTSTART:20231029T010000
END:STANDARD
BEGIN:DAYLIGHT
TZOFFSETFROM:+0100
TZOFFSETTO:+0200
TZNAME:CEST
DTSTART:20240331T010000
END:DAYLIGHT
BEGIN:STANDARD
TZOFFSETFROM:+0200
TZOFFSETTO:+0100
TZNAME:CET
DTSTART:20241027T010000
END:STANDARD
BEGIN:DAYLIGHT
TZOFFSETFROM:+0100
TZOFFSETTO:+0200
TZNAME:CEST
DTSTART:20250330T010000
END:DAYLIGHT
BEGIN:STANDARD
TZOFFSETFROM:+0200
TZOFFSETTO:+0100
TZNAME:CET
DTSTART:20251026T010000
END:STANDARD
END:VTIMEZONE
BEGIN:VEVENT
DTSTART;TZID=Europe/Paris:20240218T113000
DTEND;TZID=Europe/Paris:20240218T150000
DTSTAMP:20260423T032658
CREATED:20240125T160328Z
LAST-MODIFIED:20240125T160328Z
UID:4054-1708255800-1708268400@www.chateau-pepusque.fr
SUMMARY:Messe d'Hiver
DESCRIPTION:Chers amis de Pépusque\, \n\nLes vacances d’hiver approchent à grand pas\, et nous sommes enchantés de vous proposer de participer à notre messe du dimanche 18 Février à partir de 11h30. \n\nNous avons prévu de nous réchauffer autour d’une tartiflette concoctée par les soins de notre partenaire l’Oustal de Carquet. \nAttendez vous à une atmosphère chaleureuse et festive grâce à la présence du groupe de musique Les 2 Têtes qui saura créer une ambiance conviviale et entraînante pour rendre notre événement inoubliable ! \n\nAlors ne perdez plus une minute pour vous inscrire et venir passer un moment agréable en notre compagnie ! \n\nL’équipe du Château Pépusque.
URL:https://www.chateau-pepusque.fr/event/messe-dhiver/
LOCATION:Château Pépusque\, 3 rue de l'égalité\, Pépieux\, 11700
END:VEVENT
END:VCALENDAR