BEGIN:VCALENDAR
VERSION:2.0
PRODID:-//Château Pépusque - ECPv6.15.20//NONSGML v1.0//EN
CALSCALE:GREGORIAN
METHOD:PUBLISH
X-ORIGINAL-URL:https://www.chateau-pepusque.fr
X-WR-CALDESC:Évènements pour Château Pépusque
REFRESH-INTERVAL;VALUE=DURATION:PT1H
X-Robots-Tag:noindex
X-PUBLISHED-TTL:PT1H
BEGIN:VTIMEZONE
TZID:Europe/Paris
BEGIN:DAYLIGHT
TZOFFSETFROM:+0100
TZOFFSETTO:+0200
TZNAME:CEST
DTSTART:20230326T010000
END:DAYLIGHT
BEGIN:STANDARD
TZOFFSETFROM:+0200
TZOFFSETTO:+0100
TZNAME:CET
DTSTART:20231029T010000
END:STANDARD
BEGIN:DAYLIGHT
TZOFFSETFROM:+0100
TZOFFSETTO:+0200
TZNAME:CEST
DTSTART:20240331T010000
END:DAYLIGHT
BEGIN:STANDARD
TZOFFSETFROM:+0200
TZOFFSETTO:+0100
TZNAME:CET
DTSTART:20241027T010000
END:STANDARD
BEGIN:DAYLIGHT
TZOFFSETFROM:+0100
TZOFFSETTO:+0200
TZNAME:CEST
DTSTART:20250330T010000
END:DAYLIGHT
BEGIN:STANDARD
TZOFFSETFROM:+0200
TZOFFSETTO:+0100
TZNAME:CET
DTSTART:20251026T010000
END:STANDARD
END:VTIMEZONE
BEGIN:VEVENT
DTSTART;VALUE=DATE:20240301
DTEND;VALUE=DATE:20240304
DTSTAMP:20260423T020520
CREATED:20240213T145903Z
LAST-MODIFIED:20240213T150234Z
UID:4082-1709251200-1709510399@www.chateau-pepusque.fr
SUMMARY:38ème Festival des Vins - Laigné
DESCRIPTION:Le Club des Loisirs de Laigné-en-Belin est principalement connu pour son Festival des Vins et de la Gastronomie qui se déroule chaque premier weekend du mois de Mars. Lors de cet évènement\, une centaine d’exposants dont soixante-cinq vignerons font déguster gratuitement le fruit de leur production. A tout juste dix minutes du Mans\, c’est plus de 13 000 visiteurs qui parcourent les allées du festival durant trois jours. \nSur place\, vous pourrez faire une pause auprès dans deux restaurants qui vous accueillent tout au long de la journée. \nLe prochain Festival des Vins et de la gastronomie se déroulera avec le Château Pépusque les vendredi 1er samedi 2 et dimanche 3 Mars 2024 \nTéléchargez vos invitations ici \nLe prochain Festival des Vins se déroulera : \n\nVendredi 1er mars : 10h – 20h\nSamedi 2 mars : 10h – 19h\nDimanche 3 mars : 10h – 18h
URL:https://www.chateau-pepusque.fr/event/38eme-festival-des-vins-laigne/
END:VEVENT
BEGIN:VEVENT
DTSTART;VALUE=DATE:20240301
DTEND;VALUE=DATE:20240304
DTSTAMP:20260423T020520
CREATED:20240214T145623Z
LAST-MODIFIED:20240220T091537Z
UID:4088-1709251200-1709510399@www.chateau-pepusque.fr
SUMMARY:Salon du Bien-Vivre et Bien-Manger / Saint-Cannat
DESCRIPTION:Salon du Bien-Vivre et Bien-Manger\nCe rendez-vous exceptionnel célèbre la fusion parfaite entre la gastronomie\, de la bière\, du bon vin mais encore le côté bien-être se joindra à nous pour cet évènement. Notre objectif est de vous offrir une expérience sensorielle unique\, mettant en lumière des saveurs exquises et des pratiques alimentaires mais pas que\, qui favorisent le bien-vivre. Que vous soyez passionné de cuisine\, amateur de bonnes tables ou de bonnes cuvés\, mais encore charcuterie\, fromage…  cet événement est fait pour vous. \nJoignez-vous à nous du 1er au 3 mars 2024 pour une expérience gastronomique inoubliable à l’Aixagone de Saint-Cannat\, idéalement situé à côté du Village des Automates. Plongez dans un univers de saveurs\, de découvertes culinaires\, de bien-être et d’animations musicales. Réservez ces dates et préparez-vous à une célébration mémorable du bien-vivre et du bien-mangé. \nTéléchargez vos invitations pour nous retrouver !
URL:https://www.chateau-pepusque.fr/event/salon-du-bien-vivre-et-bien-manger-saint-cannat/
END:VEVENT
END:VCALENDAR