BEGIN:VCALENDAR
VERSION:2.0
PRODID:-//Château Pépusque - ECPv6.15.20//NONSGML v1.0//EN
CALSCALE:GREGORIAN
METHOD:PUBLISH
X-WR-CALNAME:Château Pépusque
X-ORIGINAL-URL:https://www.chateau-pepusque.fr
X-WR-CALDESC:Évènements pour Château Pépusque
REFRESH-INTERVAL;VALUE=DURATION:PT1H
X-Robots-Tag:noindex
X-PUBLISHED-TTL:PT1H
BEGIN:VTIMEZONE
TZID:Europe/Paris
BEGIN:DAYLIGHT
TZOFFSETFROM:+0100
TZOFFSETTO:+0200
TZNAME:CEST
DTSTART:20230326T010000
END:DAYLIGHT
BEGIN:STANDARD
TZOFFSETFROM:+0200
TZOFFSETTO:+0100
TZNAME:CET
DTSTART:20231029T010000
END:STANDARD
BEGIN:DAYLIGHT
TZOFFSETFROM:+0100
TZOFFSETTO:+0200
TZNAME:CEST
DTSTART:20240331T010000
END:DAYLIGHT
BEGIN:STANDARD
TZOFFSETFROM:+0200
TZOFFSETTO:+0100
TZNAME:CET
DTSTART:20241027T010000
END:STANDARD
BEGIN:DAYLIGHT
TZOFFSETFROM:+0100
TZOFFSETTO:+0200
TZNAME:CEST
DTSTART:20250330T010000
END:DAYLIGHT
BEGIN:STANDARD
TZOFFSETFROM:+0200
TZOFFSETTO:+0100
TZNAME:CET
DTSTART:20251026T010000
END:STANDARD
END:VTIMEZONE
BEGIN:VEVENT
DTSTART;VALUE=DATE:20240308
DTEND;VALUE=DATE:20240312
DTSTAMP:20260423T015939
CREATED:20240220T143439Z
LAST-MODIFIED:20240220T143439Z
UID:4096-1709856000-1710201599@www.chateau-pepusque.fr
SUMMARY:Aux Vignobles ! - Vannes
DESCRIPTION:Du 8 au 11 mars\, le salon Aux Vignobles ! 2024 fait étape à Vannes\, où il s’ouvre\, à nouveau\, sur le monde de l’artisanat gastronomique et viticole. Pour cette 31e édition de l’événement\, 130 artisans et producteurs venus de toute la France donnent rendez-vous aux gourmands\, gourmets ou simples curieux. \nNotre équipe sera présente pour vous faire découvrir et déguster nos vins de terroir certifiés “Haute Valeur Environnementale 3” et “Terra Titis” les :  \n\nLe vendredi 8 mars de 17h à 21h\nLe samedi 9 mars de 10h à 20h\nLe dimanche 10 mars de 10h à 19h\nLe lundi 11 mars de 10h à 17h\n\nNous espérons vous y voir nombreux et pouvoir profiter d’un moment de convivialité à vos côtés ! \nA très vite\, \nL’équipe de Pépusque.
URL:https://www.chateau-pepusque.fr/event/aux-vignobles-vannes-2/
LOCATION:Le Chorus\, Parc du Golf\, Vannes\, 56000
END:VEVENT
END:VCALENDAR