BEGIN:VCALENDAR
VERSION:2.0
PRODID:-//Château Pépusque - ECPv6.15.20//NONSGML v1.0//EN
CALSCALE:GREGORIAN
METHOD:PUBLISH
X-WR-CALNAME:Château Pépusque
X-ORIGINAL-URL:https://www.chateau-pepusque.fr
X-WR-CALDESC:Évènements pour Château Pépusque
REFRESH-INTERVAL;VALUE=DURATION:PT1H
X-Robots-Tag:noindex
X-PUBLISHED-TTL:PT1H
BEGIN:VTIMEZONE
TZID:Europe/Paris
BEGIN:DAYLIGHT
TZOFFSETFROM:+0100
TZOFFSETTO:+0200
TZNAME:CEST
DTSTART:20230326T010000
END:DAYLIGHT
BEGIN:STANDARD
TZOFFSETFROM:+0200
TZOFFSETTO:+0100
TZNAME:CET
DTSTART:20231029T010000
END:STANDARD
BEGIN:DAYLIGHT
TZOFFSETFROM:+0100
TZOFFSETTO:+0200
TZNAME:CEST
DTSTART:20240331T010000
END:DAYLIGHT
BEGIN:STANDARD
TZOFFSETFROM:+0200
TZOFFSETTO:+0100
TZNAME:CET
DTSTART:20241027T010000
END:STANDARD
BEGIN:DAYLIGHT
TZOFFSETFROM:+0100
TZOFFSETTO:+0200
TZNAME:CEST
DTSTART:20250330T010000
END:DAYLIGHT
BEGIN:STANDARD
TZOFFSETFROM:+0200
TZOFFSETTO:+0100
TZNAME:CET
DTSTART:20251026T010000
END:STANDARD
END:VTIMEZONE
BEGIN:VEVENT
DTSTART;VALUE=DATE:20240720
DTEND;VALUE=DATE:20240722
DTSTAMP:20260422T204450
CREATED:20240710T074835Z
LAST-MODIFIED:20240710T074835Z
UID:4249-1721433600-1721606399@www.chateau-pepusque.fr
SUMMARY:Foire aux vins et aux fromages
DESCRIPTION:Le Château Pépusque vous donne rendez-vous à la Foire nationale aux vins et aux fromages qui se tiendra à Besse-et-Saint-Anastaise. \n\nSamedi 20 juillet à partir de 10h00\nDimanche 21 juillet à partir de de 10h00\n\nAu rendez-vous les visiteurs pourront déguster des vins d’exception\, découvrir de nouveaux fromages et échanger avec les producteurs sur leurs savoir-faire et leurs secrets de fabrication. \nEn espérant vous y voir nombreux pour vous faire découvrir nos vins de terroir\, en Cru Minervois et Cru La Livinière\, certifiés “Terra Vitis” et “Haute Valeur Environnementale”. \nAu plaisir de trinquer ensemble\, \nL’équipe du Château Pépusque.
URL:https://www.chateau-pepusque.fr/event/foire-aux-vins-et-aux-fromages/
ATTACH;FMTTYPE=image/jpeg:https://www.chateau-pepusque.fr/wp-content/uploads/2024/07/Besse-2.jpg
END:VEVENT
END:VCALENDAR