BEGIN:VCALENDAR
VERSION:2.0
PRODID:-//Château Pépusque - ECPv6.15.20//NONSGML v1.0//EN
CALSCALE:GREGORIAN
METHOD:PUBLISH
X-ORIGINAL-URL:https://www.chateau-pepusque.fr
X-WR-CALDESC:Évènements pour Château Pépusque
REFRESH-INTERVAL;VALUE=DURATION:PT1H
X-Robots-Tag:noindex
X-PUBLISHED-TTL:PT1H
BEGIN:VTIMEZONE
TZID:Europe/Paris
BEGIN:DAYLIGHT
TZOFFSETFROM:+0100
TZOFFSETTO:+0200
TZNAME:CEST
DTSTART:20200329T010000
END:DAYLIGHT
BEGIN:STANDARD
TZOFFSETFROM:+0200
TZOFFSETTO:+0100
TZNAME:CET
DTSTART:20201025T010000
END:STANDARD
BEGIN:DAYLIGHT
TZOFFSETFROM:+0100
TZOFFSETTO:+0200
TZNAME:CEST
DTSTART:20210328T010000
END:DAYLIGHT
BEGIN:STANDARD
TZOFFSETFROM:+0200
TZOFFSETTO:+0100
TZNAME:CET
DTSTART:20211031T010000
END:STANDARD
BEGIN:DAYLIGHT
TZOFFSETFROM:+0100
TZOFFSETTO:+0200
TZNAME:CEST
DTSTART:20220327T010000
END:DAYLIGHT
BEGIN:STANDARD
TZOFFSETFROM:+0200
TZOFFSETTO:+0100
TZNAME:CET
DTSTART:20221030T010000
END:STANDARD
END:VTIMEZONE
BEGIN:VEVENT
DTSTART;VALUE=DATE:20210715
DTEND;VALUE=DATE:20210716
DTSTAMP:20260425T004135
CREATED:20210708T082926Z
LAST-MODIFIED:20210708T082926Z
UID:2602-1626307200-1626393599@www.chateau-pepusque.fr
SUMMARY:Dégustation Milady Beach - Biarritz
DESCRIPTION:Cet été\, Christophe Urios vient à votre rencontre et vous fait déguster ses vins du Minervois !  \nVenez nous retrouver sur l’une des plus belles plages de Biarritz avec un coucher de soleil à ne pas manquer !  \nToute l’équipe du Château Pépusque compte sur votre présence  \n 15 JUILLET – à partir de 17h\n Milady Beach – Biarritz
URL:https://www.chateau-pepusque.fr/event/degustation-milady-beach-biarritz/
END:VEVENT
BEGIN:VEVENT
DTSTART;VALUE=DATE:20210717
DTEND;VALUE=DATE:20210718
DTSTAMP:20260425T004135
CREATED:20210709T135341Z
LAST-MODIFIED:20210709T135341Z
UID:2610-1626480000-1626566399@www.chateau-pepusque.fr
SUMMARY:Pépusque par Christophe Urios
DESCRIPTION:Christophe Urios vous fait découvrir son Château Pépusque le samedi 17 juillet\, mercredi 21 juillet\, et le jeudi 22 juillet. \nRéservation au 06 13 16 03 44 ou contact@chateau-pepusque.fr
URL:https://www.chateau-pepusque.fr/event/pepusque-par-christophe-urios/
LOCATION:Château Pépusque\, 3 rue de l'égalité\, Pépieux\, 11700
END:VEVENT
BEGIN:VEVENT
DTSTART;VALUE=DATE:20210724
DTEND;VALUE=DATE:20210725
DTSTAMP:20260425T004135
CREATED:20210708T121255Z
LAST-MODIFIED:20210708T121255Z
UID:2604-1627084800-1627171199@www.chateau-pepusque.fr
SUMMARY:Dégustation Les Planches Éphémères - Le Bouscat
DESCRIPTION:Cet été\, Christophe Urios vient à votre rencontre et vous fait déguster ses vins du Minervois !  \nVenez rencontrer Christophe et toute son équipe du Château Pépusque dans cette oasis végétale inattendue de 2000 m2 à deux pas de la ville\, en plein air. \nOn compte sur votre présence  \n 24 JUILLET – 11h à 17h\n Les Planches Éphémères – Le Bouscat \n \n 
URL:https://www.chateau-pepusque.fr/event/degustation-les-planches-ephemeres-le-bouscat/
END:VEVENT
END:VCALENDAR