BEGIN:VCALENDAR
VERSION:2.0
PRODID:-//Château Pépusque - ECPv6.15.20//NONSGML v1.0//EN
CALSCALE:GREGORIAN
METHOD:PUBLISH
X-WR-CALNAME:Château Pépusque
X-ORIGINAL-URL:https://www.chateau-pepusque.fr
X-WR-CALDESC:Évènements pour Château Pépusque
REFRESH-INTERVAL;VALUE=DURATION:PT1H
X-Robots-Tag:noindex
X-PUBLISHED-TTL:PT1H
BEGIN:VTIMEZONE
TZID:Europe/Paris
BEGIN:DAYLIGHT
TZOFFSETFROM:+0100
TZOFFSETTO:+0200
TZNAME:CEST
DTSTART:20200329T010000
END:DAYLIGHT
BEGIN:STANDARD
TZOFFSETFROM:+0200
TZOFFSETTO:+0100
TZNAME:CET
DTSTART:20201025T010000
END:STANDARD
BEGIN:DAYLIGHT
TZOFFSETFROM:+0100
TZOFFSETTO:+0200
TZNAME:CEST
DTSTART:20210328T010000
END:DAYLIGHT
BEGIN:STANDARD
TZOFFSETFROM:+0200
TZOFFSETTO:+0100
TZNAME:CET
DTSTART:20211031T010000
END:STANDARD
BEGIN:DAYLIGHT
TZOFFSETFROM:+0100
TZOFFSETTO:+0200
TZNAME:CEST
DTSTART:20220327T010000
END:DAYLIGHT
BEGIN:STANDARD
TZOFFSETFROM:+0200
TZOFFSETTO:+0100
TZNAME:CET
DTSTART:20221030T010000
END:STANDARD
END:VTIMEZONE
BEGIN:VEVENT
DTSTART;TZID=Europe/Paris:20210919T103000
DTEND;TZID=Europe/Paris:20210919T140000
DTSTAMP:20260424T210633
CREATED:20210908T145007Z
LAST-MODIFIED:20210914T120650Z
UID:2803-1632047400-1632060000@www.chateau-pepusque.fr
SUMMARY:Castres
DESCRIPTION:Pépusquiennes\, Pépusquiens\, \n\n\n\n\n\n\n\n\n\n\n\n\n\n\n\n\n\n\nNous avons le plaisir de vous inviter à Castres – Parvis des halles\, place Pierre FABRE\, le dimanche 19 septembre de 10h30 à 14h. \nChristophe vous donne rendez-vous pour déguster ses vins du Minervois. À cette occasion\, nous vous ferons découvrir les nouveaux millésimes et nouvelles cuvées.
URL:https://www.chateau-pepusque.fr/event/castres/
END:VEVENT
BEGIN:VEVENT
DTSTART;VALUE=DATE:20210922
DTEND;VALUE=DATE:20210923
DTSTAMP:20260424T210633
CREATED:20210908T145119Z
LAST-MODIFIED:20210908T145119Z
UID:2805-1632268800-1632355199@www.chateau-pepusque.fr
SUMMARY:Pamiers
DESCRIPTION:Pépusquiennes\, Pépusquiens\, \n\n\n\n\n\n\n\n\n\n\n\n\n\n\n\n\n\n\n\nNous avons le plaisir de vous inviter à Pamiers le mercredi 22 septembre. \n\nPlus d’informations à venir… \n\n  \n  \n\n\n\n\n\n\n\n\n\n 
URL:https://www.chateau-pepusque.fr/event/pamiers/
END:VEVENT
BEGIN:VEVENT
DTSTART;VALUE=DATE:20210926
DTEND;VALUE=DATE:20210927
DTSTAMP:20260424T210633
CREATED:20210908T145222Z
LAST-MODIFIED:20210908T145235Z
UID:2807-1632614400-1632700799@www.chateau-pepusque.fr
SUMMARY:Halles de Bacalan - Bordeaux
DESCRIPTION:Pépusquiennes\, Pépusquiens\, \n\n\n\n\n\n\n\n\n\n\n\n\n\n\n\n\n\n\n\nNous avons le plaisir de vous inviter aux halles de Bacalan à Bordeaux le dimanche 26 septembre. \n\nPlus d’informations à venir… \n\n  \n  \n\n\n\n\n\n\n\n\n\n 
URL:https://www.chateau-pepusque.fr/event/halles-de-bacalan/
END:VEVENT
END:VCALENDAR