BEGIN:VCALENDAR
VERSION:2.0
PRODID:-//Château Pépusque - ECPv6.15.20//NONSGML v1.0//EN
CALSCALE:GREGORIAN
METHOD:PUBLISH
X-ORIGINAL-URL:https://www.chateau-pepusque.fr
X-WR-CALDESC:Évènements pour Château Pépusque
REFRESH-INTERVAL;VALUE=DURATION:PT1H
X-Robots-Tag:noindex
X-PUBLISHED-TTL:PT1H
BEGIN:VTIMEZONE
TZID:Europe/Paris
BEGIN:DAYLIGHT
TZOFFSETFROM:+0100
TZOFFSETTO:+0200
TZNAME:CEST
DTSTART:20200329T010000
END:DAYLIGHT
BEGIN:STANDARD
TZOFFSETFROM:+0200
TZOFFSETTO:+0100
TZNAME:CET
DTSTART:20201025T010000
END:STANDARD
BEGIN:DAYLIGHT
TZOFFSETFROM:+0100
TZOFFSETTO:+0200
TZNAME:CEST
DTSTART:20210328T010000
END:DAYLIGHT
BEGIN:STANDARD
TZOFFSETFROM:+0200
TZOFFSETTO:+0100
TZNAME:CET
DTSTART:20211031T010000
END:STANDARD
BEGIN:DAYLIGHT
TZOFFSETFROM:+0100
TZOFFSETTO:+0200
TZNAME:CEST
DTSTART:20220327T010000
END:DAYLIGHT
BEGIN:STANDARD
TZOFFSETFROM:+0200
TZOFFSETTO:+0100
TZNAME:CET
DTSTART:20221030T010000
END:STANDARD
END:VTIMEZONE
BEGIN:VEVENT
DTSTART;VALUE=DATE:20211001
DTEND;VALUE=DATE:20211005
DTSTAMP:20260424T192719
CREATED:20210913T141709Z
LAST-MODIFIED:20210913T141750Z
UID:2878-1633046400-1633391999@www.chateau-pepusque.fr
SUMMARY:Salon Vins & Gastronomie - Vertou
DESCRIPTION:Pépusquiennes\, Pépusquiens\, \nNous vous accueillerons du 1er au 4 octobre.sur notre stand au Salon Vins & Gastronomie à Vertou. \nLe vendredi 1er de 17h à 21h\, le samedi 2 de 10h à 20h\, le dimanche 3 de 10h à 19h\, le lundi 4 de 10h à 17h. \nAdresse : Rue Sèvre et Maine – 44210 VERTOU \nPlus d’informations à venir…
URL:https://www.chateau-pepusque.fr/event/salon-vins-gastronomie-vertou/
END:VEVENT
BEGIN:VEVENT
DTSTART;TZID=Europe/Paris:20211017T110000
DTEND;TZID=Europe/Paris:20211017T160000
DTSTAMP:20260424T192719
CREATED:20210930T105243Z
LAST-MODIFIED:20210930T105243Z
UID:2949-1634468400-1634486400@www.chateau-pepusque.fr
SUMMARY:La Messe de Pépusque - Fin des Vendanges
DESCRIPTION:Pépusquiennes\, Pépusquiens\, \nAprès le succès de notre première Messe\, nous avons le plaisir de vous convier à cette nouvelle Messe pour célébrer la fin des vendanges le 17 octobre à partir de 11h au Château Pépusque\, 3 Rue de l’Egalité à Pépieux ! \nChristophe Urios vous convie\, en présence de toute son équipe\, à un moment de convivialité autour d’une rôtisserie organisée par le traiteur « Copains Comme Cochons »… Tout le monde est le bienvenu\, l’entrée est gratuite avec au programme un concert d’un groupe de musique\, une vente des vins de Pépusque au verre ou à la bouteille. \nÀ cette occasion\, nous vous offrirons le foulard des vendanges de Pépusque que nous porterons tous ! \n\n\nDRESS CODE : HAUT NOIR !!! \n\n\n\n Merci de nous confirmer votre présence à l’avance. Le PASS SANITAIRE est OBLIGATOIRE \n\n\n\nNous vous attendons nombreux !
URL:https://www.chateau-pepusque.fr/event/la-messe-de-pepusque-fin-des-vendanges/
END:VEVENT
BEGIN:VEVENT
DTSTART;TZID=Europe/Paris:20211027T180000
DTEND;TZID=Europe/Paris:20211027T210000
DTSTAMP:20260424T192719
CREATED:20211014T140701Z
LAST-MODIFIED:20211014T140701Z
UID:3006-1635357600-1635368400@www.chateau-pepusque.fr
SUMMARY:Le Tire-Bouchon - Oloron
DESCRIPTION:Pépusquiennes\, Pépusquiens\, \n\n\n\n\n\n\n\n\n\n\n\n\n\n\n\n\n\n\n\nNous avons le plaisir de vous inviter au Tire-Bouchon à Oloron le mercredi 27 octobre pour une dégustation en présence de Christophe Urios de 18h à 21h !
URL:https://www.chateau-pepusque.fr/event/le-tire-bouchon-oloron/
END:VEVENT
END:VCALENDAR