BEGIN:VCALENDAR
VERSION:2.0
PRODID:-//Château Pépusque - ECPv6.15.20//NONSGML v1.0//EN
CALSCALE:GREGORIAN
METHOD:PUBLISH
X-ORIGINAL-URL:https://www.chateau-pepusque.fr
X-WR-CALDESC:Évènements pour Château Pépusque
REFRESH-INTERVAL;VALUE=DURATION:PT1H
X-Robots-Tag:noindex
X-PUBLISHED-TTL:PT1H
BEGIN:VTIMEZONE
TZID:Europe/Paris
BEGIN:DAYLIGHT
TZOFFSETFROM:+0100
TZOFFSETTO:+0200
TZNAME:CEST
DTSTART:20200329T010000
END:DAYLIGHT
BEGIN:STANDARD
TZOFFSETFROM:+0200
TZOFFSETTO:+0100
TZNAME:CET
DTSTART:20201025T010000
END:STANDARD
BEGIN:DAYLIGHT
TZOFFSETFROM:+0100
TZOFFSETTO:+0200
TZNAME:CEST
DTSTART:20210328T010000
END:DAYLIGHT
BEGIN:STANDARD
TZOFFSETFROM:+0200
TZOFFSETTO:+0100
TZNAME:CET
DTSTART:20211031T010000
END:STANDARD
BEGIN:DAYLIGHT
TZOFFSETFROM:+0100
TZOFFSETTO:+0200
TZNAME:CEST
DTSTART:20220327T010000
END:DAYLIGHT
BEGIN:STANDARD
TZOFFSETFROM:+0200
TZOFFSETTO:+0100
TZNAME:CET
DTSTART:20221030T010000
END:STANDARD
END:VTIMEZONE
BEGIN:VEVENT
DTSTART;VALUE=DATE:20211106
DTEND;VALUE=DATE:20211107
DTSTAMP:20260424T174651
CREATED:20211014T140828Z
LAST-MODIFIED:20211014T140828Z
UID:3009-1636156800-1636243199@www.chateau-pepusque.fr
SUMMARY:La Rochelle
DESCRIPTION:Dégustation des vins du Château Pépusque en présence de Christophe Urios le samedi 6 novembre à La Rochelle ! \nPlus d’informations à venir…
URL:https://www.chateau-pepusque.fr/event/la-rochelle/
END:VEVENT
BEGIN:VEVENT
DTSTART;TZID=Europe/Paris:20211110T180000
DTEND;TZID=Europe/Paris:20211110T210000
DTSTAMP:20260424T174651
CREATED:20211014T141907Z
LAST-MODIFIED:20211014T141907Z
UID:3011-1636567200-1636578000@www.chateau-pepusque.fr
SUMMARY:Le Pré Vert - LANNEMEZAN
DESCRIPTION:Pépusquiennes\, Pépusquiens\, \n\n\n\n\n\n\n\n\n\n\n\n\n\n\n\n\n\n\n\nNous avons le plaisir de vous inviter au restaurant du golf « Le Pré Vert » à Lannemezan. Une dégustation en présence de Christophe Urios aura lieu de 18h à 21h.
URL:https://www.chateau-pepusque.fr/event/le-pre-vert-lannemezan/
END:VEVENT
BEGIN:VEVENT
DTSTART;VALUE=DATE:20211111
DTEND;VALUE=DATE:20211115
DTSTAMP:20260424T174651
CREATED:20211014T140200Z
LAST-MODIFIED:20211102T105107Z
UID:3003-1636588800-1636934399@www.chateau-pepusque.fr
SUMMARY:Salon Vins & Gastronomie - BREST
DESCRIPTION:Pépusquiennes\, Pépusquiens\, \nNous vous accueillerons du 11 au 14 novembre sur notre stand au Salon Vins & Gastronomie à Brest. \nLes horaires d’ouvertures : \nJeudi 11 novembre : 10h – 19h \nVendredi 12 novembre : 10h – 18h \nSamedi 13 novembre : 10h – 19h \nDimanche 14 novembre : 10h – 18h \nVeuillez trouver ci-dessous un lien pour télécharger une invitation gratuite pour deux personnes : https://yurplan.com/event/Salon-Vins-Gastronomie-de-Brest-2021/68863/tickets?code=EXP21
URL:https://www.chateau-pepusque.fr/event/salon-vins-gastronomie-brest/
END:VEVENT
BEGIN:VEVENT
DTSTART;TZID=Europe/Paris:20211119T000000
DTEND;TZID=Europe/Paris:20211122T000000
DTSTAMP:20260424T174651
CREATED:20211102T131031Z
LAST-MODIFIED:20211102T131716Z
UID:3022-1637280000-1637539200@www.chateau-pepusque.fr
SUMMARY:Salon Vins & Gastronomie - Gex
DESCRIPTION:Bonjour à tous\, \nNous vous accueillerons du 19 au 22 novembre sur notre stand au Salon Vins & Gastronomie à Gex (Parc Exposition – Espace Perdtemps) \nLes horaires d’ouvertures : \nVendredi 19 novembre : 16h30 – 22h \nSamedi 20 novembre : 10h – 22h \nDimanche 21 novembre : 10h – 21h \nLundi 22 novembre : 10h30 – 17h
URL:https://www.chateau-pepusque.fr/event/salon-vins-gastronomie-gex/
END:VEVENT
BEGIN:VEVENT
DTSTART;VALUE=DATE:20211126
DTEND;VALUE=DATE:20211129
DTSTAMP:20260424T174651
CREATED:20211102T131302Z
LAST-MODIFIED:20211122T163047Z
UID:3025-1637884800-1638143999@www.chateau-pepusque.fr
SUMMARY:Salon Vins & Gastronomie - Le Mans
DESCRIPTION:L’équipe du Château Pépusque sera présente au Salon Vins & Gastronomie du Mans (Centre des Expositions) du 26 au 28 novembre. \nÀ cette occasion\, nous avons le plaisir de vous inviter à notre stand (C10) pour vous rencontrer autour d’une dégustation et vente de nos vins du Minervois et Minervois La Livinière.  \nVeuillez trouver ci-dessous un lien pour télécharger une invitation gratuite pour deux personnes : https://yurplan.com/event/Salon-Vins-Gastronomie-du-Mans-2021/68877/tickets?code=EXP21 \nLes horaires d’ouvertures : \nVendredi 26 novembre : 17h – 21h \nSamedi 27 novembre : 10h – 19h \nDimanche 28 novembre : 10h – 18h
URL:https://www.chateau-pepusque.fr/event/salon-vins-gastronomie-le-mans/
END:VEVENT
END:VCALENDAR