BEGIN:VCALENDAR
VERSION:2.0
PRODID:-//Château Pépusque - ECPv6.15.20//NONSGML v1.0//EN
CALSCALE:GREGORIAN
METHOD:PUBLISH
X-WR-CALNAME:Château Pépusque
X-ORIGINAL-URL:https://www.chateau-pepusque.fr
X-WR-CALDESC:Évènements pour Château Pépusque
REFRESH-INTERVAL;VALUE=DURATION:PT1H
X-Robots-Tag:noindex
X-PUBLISHED-TTL:PT1H
BEGIN:VTIMEZONE
TZID:Europe/Paris
BEGIN:DAYLIGHT
TZOFFSETFROM:+0100
TZOFFSETTO:+0200
TZNAME:CEST
DTSTART:20200329T010000
END:DAYLIGHT
BEGIN:STANDARD
TZOFFSETFROM:+0200
TZOFFSETTO:+0100
TZNAME:CET
DTSTART:20201025T010000
END:STANDARD
BEGIN:DAYLIGHT
TZOFFSETFROM:+0100
TZOFFSETTO:+0200
TZNAME:CEST
DTSTART:20210328T010000
END:DAYLIGHT
BEGIN:STANDARD
TZOFFSETFROM:+0200
TZOFFSETTO:+0100
TZNAME:CET
DTSTART:20211031T010000
END:STANDARD
BEGIN:DAYLIGHT
TZOFFSETFROM:+0100
TZOFFSETTO:+0200
TZNAME:CEST
DTSTART:20220327T010000
END:DAYLIGHT
BEGIN:STANDARD
TZOFFSETFROM:+0200
TZOFFSETTO:+0100
TZNAME:CET
DTSTART:20221030T010000
END:STANDARD
END:VTIMEZONE
BEGIN:VEVENT
DTSTART;VALUE=DATE:20211205
DTEND;VALUE=DATE:20211206
DTSTAMP:20260424T154959
CREATED:20211122T162328Z
LAST-MODIFIED:20211130T153408Z
UID:3038-1638662400-1638748799@www.chateau-pepusque.fr
SUMMARY:Oyonnax
DESCRIPTION:Dégustation et vente de vins en présence de Christophe Urios à l’Imprévu à Oyonnax le dimanche 05 décembre de 10h à 14h.
URL:https://www.chateau-pepusque.fr/event/oyonnax/
END:VEVENT
BEGIN:VEVENT
DTSTART;TZID=Europe/Paris:20211208T180000
DTEND;TZID=Europe/Paris:20211208T210000
DTSTAMP:20260424T154959
CREATED:20211122T162611Z
LAST-MODIFIED:20211122T162611Z
UID:3040-1638986400-1638997200@www.chateau-pepusque.fr
SUMMARY:Fleurance (32500)
DESCRIPTION:Dégustation et vente de vins en présence de Christophe Urios au Domaine de Nazère à Fleurance (32500) le mercredi 08 décembre de 18h à 21h.
URL:https://www.chateau-pepusque.fr/event/fleurance-32500/
END:VEVENT
BEGIN:VEVENT
DTSTART;VALUE=DATE:20211212
DTEND;VALUE=DATE:20211213
DTSTAMP:20260424T154959
CREATED:20211102T131959Z
LAST-MODIFIED:20211130T153615Z
UID:3027-1639267200-1639353599@www.chateau-pepusque.fr
SUMMARY:La Messe de Pépusque - Noël 2021
DESCRIPTION:Une nouvelle « Messe » de Pépusque est prévue le 12 décembre de 11h à 15h ! Toutes les informations ci-dessous :
URL:https://www.chateau-pepusque.fr/event/la-messe-de-pepusque-2/
END:VEVENT
END:VCALENDAR