BEGIN:VCALENDAR
VERSION:2.0
PRODID:-//Château Pépusque - ECPv6.15.20//NONSGML v1.0//EN
CALSCALE:GREGORIAN
METHOD:PUBLISH
X-WR-CALNAME:Château Pépusque
X-ORIGINAL-URL:https://www.chateau-pepusque.fr
X-WR-CALDESC:Évènements pour Château Pépusque
REFRESH-INTERVAL;VALUE=DURATION:PT1H
X-Robots-Tag:noindex
X-PUBLISHED-TTL:PT1H
BEGIN:VTIMEZONE
TZID:Europe/Paris
BEGIN:DAYLIGHT
TZOFFSETFROM:+0100
TZOFFSETTO:+0200
TZNAME:CEST
DTSTART:20210328T010000
END:DAYLIGHT
BEGIN:STANDARD
TZOFFSETFROM:+0200
TZOFFSETTO:+0100
TZNAME:CET
DTSTART:20211031T010000
END:STANDARD
BEGIN:DAYLIGHT
TZOFFSETFROM:+0100
TZOFFSETTO:+0200
TZNAME:CEST
DTSTART:20220327T010000
END:DAYLIGHT
BEGIN:STANDARD
TZOFFSETFROM:+0200
TZOFFSETTO:+0100
TZNAME:CET
DTSTART:20221030T010000
END:STANDARD
BEGIN:DAYLIGHT
TZOFFSETFROM:+0100
TZOFFSETTO:+0200
TZNAME:CEST
DTSTART:20230326T010000
END:DAYLIGHT
BEGIN:STANDARD
TZOFFSETFROM:+0200
TZOFFSETTO:+0100
TZNAME:CET
DTSTART:20231029T010000
END:STANDARD
END:VTIMEZONE
BEGIN:VEVENT
DTSTART;TZID=Europe/Paris:20220204T180000
DTEND;TZID=Europe/Paris:20220204T210000
DTSTAMP:20260424T125059
CREATED:20220201T092045Z
LAST-MODIFIED:20220201T093239Z
UID:3193-1643997600-1644008400@www.chateau-pepusque.fr
SUMMARY:Dégustation & vente de vins - Ussel (19200)
DESCRIPTION:Christophe Urios vous invite à Ussel (19200) pour une dégustation et vente de ses vins de Pépusque ! Cette vente aura lieu en présence de Christophe de 18h à 21h\, le vendredi 4 février\, Place Verdun (ancienne caserne des pompiers).  \nEn raison de la situation sanitaire\, l’inscription pour cet évènement est obligatoire. Merci de votre compréhension ! \nVeuillez trouver ci-dessous l’invitation avec toutes les informations. \nRetrouvez notre histoire et nos vins sur notre site internet : https://www.chateau-pepusque.fr/nos-vins/ \n 
URL:https://www.chateau-pepusque.fr/event/degustation-vente-de-vins-ussel-19200/
END:VEVENT
BEGIN:VEVENT
DTSTART;TZID=Europe/Paris:20220216T180000
DTEND;TZID=Europe/Paris:20220216T210000
DTSTAMP:20260424T125059
CREATED:20220201T092838Z
LAST-MODIFIED:20220201T093316Z
UID:3205-1645034400-1645045200@www.chateau-pepusque.fr
SUMMARY:Dégustation & vente de vins - Pau (64000)
DESCRIPTION:Christophe Urios vous invite à PAU (64000) pour une dégustation et vente de ses vins de Pépusque ! Cette vente aura lieu en présence de Christophe de 18h à 21h\, le mercredi 16 février\, Ô PETIT PAÙ ! \nVeuillez trouver ci-dessous l’invitation avec toutes les informations. \nRetrouvez notre histoire sur notre site internet : https://www.chateau-pepusque.fr/a-propos/
URL:https://www.chateau-pepusque.fr/event/degustation-vente-de-vins-pau-64000/
END:VEVENT
BEGIN:VEVENT
DTSTART;TZID=Europe/Paris:20220227T110000
DTEND;TZID=Europe/Paris:20220227T160000
DTSTAMP:20260424T125059
CREATED:20220201T095046Z
LAST-MODIFIED:20220214T105143Z
UID:3218-1645959600-1645977600@www.chateau-pepusque.fr
SUMMARY:L'Instinct - La Messe de Pépusque
DESCRIPTION:A l’occasion de la sortie de notre nouveau vin blanc : L’Instinct (Minervois) et de nos Magnums (Rosé 2021 et L’Instinct 2021)\, toute l’équipe du Château Pépusque a le plaisir de vous convier à célébrer la Messe de Pépusque le dimanche 27 février au Château Pépusque.  Inscription obligatoire et entrée gratuite. \nAu rendez-vous\, traiteur & groupe de musique\, pour passer un moment convivial en famille ou entre amis. \n \nRetrouvez nos vins sur notre site internet : https://www.chateau-pepusque.fr/nos-vins/
URL:https://www.chateau-pepusque.fr/event/linstinct-la-messe-de-pepusque/
LOCATION:Château Pépusque\, 3 rue de l'égalité\, Pépieux\, 11700
END:VEVENT
END:VCALENDAR