BEGIN:VCALENDAR
VERSION:2.0
PRODID:-//Château Pépusque - ECPv6.15.20//NONSGML v1.0//EN
CALSCALE:GREGORIAN
METHOD:PUBLISH
X-WR-CALNAME:Château Pépusque
X-ORIGINAL-URL:https://www.chateau-pepusque.fr
X-WR-CALDESC:Évènements pour Château Pépusque
REFRESH-INTERVAL;VALUE=DURATION:PT1H
X-Robots-Tag:noindex
X-PUBLISHED-TTL:PT1H
BEGIN:VTIMEZONE
TZID:Europe/Paris
BEGIN:DAYLIGHT
TZOFFSETFROM:+0100
TZOFFSETTO:+0200
TZNAME:CEST
DTSTART:20210328T010000
END:DAYLIGHT
BEGIN:STANDARD
TZOFFSETFROM:+0200
TZOFFSETTO:+0100
TZNAME:CET
DTSTART:20211031T010000
END:STANDARD
BEGIN:DAYLIGHT
TZOFFSETFROM:+0100
TZOFFSETTO:+0200
TZNAME:CEST
DTSTART:20220327T010000
END:DAYLIGHT
BEGIN:STANDARD
TZOFFSETFROM:+0200
TZOFFSETTO:+0100
TZNAME:CET
DTSTART:20221030T010000
END:STANDARD
BEGIN:DAYLIGHT
TZOFFSETFROM:+0100
TZOFFSETTO:+0200
TZNAME:CEST
DTSTART:20230326T010000
END:DAYLIGHT
BEGIN:STANDARD
TZOFFSETFROM:+0200
TZOFFSETTO:+0100
TZNAME:CET
DTSTART:20231029T010000
END:STANDARD
END:VTIMEZONE
BEGIN:VEVENT
DTSTART;VALUE=DATE:20220304
DTEND;VALUE=DATE:20220307
DTSTAMP:20260424T112338
CREATED:20220201T100235Z
LAST-MODIFIED:20220221T150422Z
UID:3227-1646352000-1646611199@www.chateau-pepusque.fr
SUMMARY:Festival des Vins et de la Gastronomie - Laigné
DESCRIPTION:Nous vous le plaisir de vous convier à notre stand « Château Pépusque » lors du Festival des Vins et de la Gastronomie à Laigné du 4 au 6 mars 2022. \nVendredi 4 mars : 10h – 20h \nSamedi 5 mars : 10h – 19h \nDimanche 6 mars : 10h – 18h \nRetrouvez nos vins sur notre site internet : https://www.chateau-pepusque.fr/nos-vins/
URL:https://www.chateau-pepusque.fr/event/festival-des-vins-et-de-la-gastronomie-laigne/
END:VEVENT
BEGIN:VEVENT
DTSTART;TZID=Europe/Paris:20220311T180000
DTEND;TZID=Europe/Paris:20220311T210000
DTSTAMP:20260424T112338
CREATED:20220301T131049Z
LAST-MODIFIED:20220302T130049Z
UID:3344-1647021600-1647032400@www.chateau-pepusque.fr
SUMMARY:Dégustation & vente de vins à Gradignan
DESCRIPTION:Rendez-vous à l’Amour du vin en présence de Christophe Urios pour une dégustation & vente de nos vins\, ainsi que de notre nouveau vin blanc : l’Instinct. \n  \n 
URL:https://www.chateau-pepusque.fr/event/degustation-vente-de-vins-a-gradignan/
END:VEVENT
BEGIN:VEVENT
DTSTART;VALUE=DATE:20220318
DTEND;VALUE=DATE:20220321
DTSTAMP:20260424T112338
CREATED:20220201T100809Z
LAST-MODIFIED:20220301T124303Z
UID:3230-1647561600-1647820799@www.chateau-pepusque.fr
SUMMARY:Salon Vins & Gastronomie - Annecy-Le-Vieux
DESCRIPTION:Nous vous le plaisir de vous convier à notre stand “Château Pépusque” lors du Salon « Aux Vignobles »  à Annecy-Le-Vieux du 18 au 20 mars ! \nCe salon met en avant le monde de l’artisanat gastronomique et viticole. 60 artisans et producteurs venus de toute la France donnent rendez-vous aux gourmands\, gourmets ou simples curieux… \nÀ cette occasion\, nous avons le plaisir de vous inviter à notre stand (F05) pour vous rencontrer autour d’une dégustation et vente de nos vins du Minervois et Minervois La Livinière du vendredi 18 mars au dimanche 20 mars 2022. \nVeuillez trouver le lien de téléchargement pour deux invitations gratuites à cet évènement : https://yurplan.com/event/Aux-Vignobles-Annecy-Le-Vieux-22/78095/tickets?code=EXP22 \nLes horaires d’ouvertures  \nVendredi 18 mars : 17h – 21h \nSamedi 19 mars : 10h – 19h \nDimanche 20 mars : 10h – 18h \n \nRetrouvez nos vins sur notre site internet : https://www.chateau-pepusque.fr/nos-vins/ \n 
URL:https://www.chateau-pepusque.fr/event/salon-vins-gastronomie-annecy-le-vieux/
END:VEVENT
BEGIN:VEVENT
DTSTART;VALUE=DATE:20220319
DTEND;VALUE=DATE:20220320
DTSTAMP:20260424T112338
CREATED:20220301T124853Z
LAST-MODIFIED:20220301T124956Z
UID:3333-1647648000-1647734399@www.chateau-pepusque.fr
SUMMARY:Halles Paul Bocuse - Lyon
DESCRIPTION:Nous avons le plaisir de vous convier à une belle journée autour de la gastronomie et du rugby aux Halles de Lyon – Paul Bocuse chez Didier Massot et chez Muzette le samedi 19 mars à partir de 10h  \nChristophe vous partage son histoire avec le château Pépusque et vous fait déguster ses vins. \nDidier Massot (meilleur ouvrier de France Boucher et Champion du monde Boucher 2016)\, Laura & Laurent Taurines de chez Muzette vous proposent une sélection de viandes et charcuteries à déguster au restaurant : entrecôtes\, tartares\, planche de charcuteries\, un grand choix de côtes de boeuf à partager\, le tout servi avec les vins du château Pépusque…  \n 
URL:https://www.chateau-pepusque.fr/event/halles-paul-bocuse-lyon/
END:VEVENT
BEGIN:VEVENT
DTSTART;TZID=Europe/Paris:20220320T110000
DTEND;TZID=Europe/Paris:20220320T140000
DTSTAMP:20260424T112338
CREATED:20220301T125634Z
LAST-MODIFIED:20220301T125634Z
UID:3337-1647774000-1647784800@www.chateau-pepusque.fr
SUMMARY:Dégustation & vente de vins au C4 à Voiron
DESCRIPTION:Nous vous attendons nombreux au C4 à Voiron pour découvrir le Château Pépusque et nos vins du Minervois & Minervois la Livinière en présence de Christophe Urios (manager de l’UBB) ! \nCet évènement aura lieu de 11h à 14h le dimanche 20 mars. \nRetrouvez notre histoire et nos vins sur notre site internet : https://www.chateau-pepusque.fr/ \nPour plus d’informations\, vous pouvez nous contacter sur l’adresse mail : contact@chateau-pepusque.fr
URL:https://www.chateau-pepusque.fr/event/degustation-vente-de-vins-au-c4-a-voiron/
END:VEVENT
BEGIN:VEVENT
DTSTART;VALUE=DATE:20220322
DTEND;VALUE=DATE:20220323
DTSTAMP:20260424T112338
CREATED:20220301T131256Z
LAST-MODIFIED:20220301T131256Z
UID:3346-1647907200-1647993599@www.chateau-pepusque.fr
SUMMARY:Dégustation & vente de vins - Brive
DESCRIPTION:Dégustation & vente de vins à Brive le mardi 22 mars. \nPlus d’informations à venir…
URL:https://www.chateau-pepusque.fr/event/degustation-vente-de-vins-brive/
END:VEVENT
BEGIN:VEVENT
DTSTART;VALUE=DATE:20220325
DTEND;VALUE=DATE:20220328
DTSTAMP:20260424T112338
CREATED:20220301T130146Z
LAST-MODIFIED:20220321T084910Z
UID:3340-1648166400-1648425599@www.chateau-pepusque.fr
SUMMARY:Salon Vins & Gastronomie - Oyonnax
DESCRIPTION:Venez nous rencontrer & déguster nos vins du Minervois & Minervois La Livinière lors du Salon Vins & Gastronomie au ValExpo à Oyonnax du 25 au 27 mars 2022. \nLes horaires d’ouvertures : \nVendredi 25 mars : 15h-21h \nSamedi 26 mars : 10h – 20h \nDimanche 27 mars : 10h-18h \nTéléchargez votre invitation pour 2 personnes.
URL:https://www.chateau-pepusque.fr/event/salon-vins-gastronomie-oyonnax/
END:VEVENT
END:VCALENDAR