BEGIN:VCALENDAR
VERSION:2.0
PRODID:-//Château Pépusque - ECPv6.15.20//NONSGML v1.0//EN
CALSCALE:GREGORIAN
METHOD:PUBLISH
X-ORIGINAL-URL:https://www.chateau-pepusque.fr
X-WR-CALDESC:Évènements pour Château Pépusque
REFRESH-INTERVAL;VALUE=DURATION:PT1H
X-Robots-Tag:noindex
X-PUBLISHED-TTL:PT1H
BEGIN:VTIMEZONE
TZID:Europe/Paris
BEGIN:DAYLIGHT
TZOFFSETFROM:+0100
TZOFFSETTO:+0200
TZNAME:CEST
DTSTART:20210328T010000
END:DAYLIGHT
BEGIN:STANDARD
TZOFFSETFROM:+0200
TZOFFSETTO:+0100
TZNAME:CET
DTSTART:20211031T010000
END:STANDARD
BEGIN:DAYLIGHT
TZOFFSETFROM:+0100
TZOFFSETTO:+0200
TZNAME:CEST
DTSTART:20220327T010000
END:DAYLIGHT
BEGIN:STANDARD
TZOFFSETFROM:+0200
TZOFFSETTO:+0100
TZNAME:CET
DTSTART:20221030T010000
END:STANDARD
BEGIN:DAYLIGHT
TZOFFSETFROM:+0100
TZOFFSETTO:+0200
TZNAME:CEST
DTSTART:20230326T010000
END:DAYLIGHT
BEGIN:STANDARD
TZOFFSETFROM:+0200
TZOFFSETTO:+0100
TZNAME:CET
DTSTART:20231029T010000
END:STANDARD
END:VTIMEZONE
BEGIN:VEVENT
DTSTART;TZID=Europe/Paris:20220514T183000
DTEND;TZID=Europe/Paris:20220514T220000
DTSTAMP:20260424T083623
CREATED:20220511T085031Z
LAST-MODIFIED:20220511T085031Z
UID:3419-1652553000-1652565600@www.chateau-pepusque.fr
SUMMARY:Aux Coeurs des Femmes - St-Rémy-de-Provence
DESCRIPTION:Christophe Urios vous invite à venir découvrir le Château Pépusque au cours d’une dégustation & vente de vins à Saint-Rémy-de-Provence : Aux Coeurs des Femmes (2 Bis Av. de la Libération\, 13210 Saint-Rémy-de-Provence). \nCet évènement sera l’occasion de partager avec lui un moment convivial autour de ses vins du Minervois le samedi 14 mai à partir de 18h30.
URL:https://www.chateau-pepusque.fr/event/aux-coeurs-des-femmes-st-remy-de-provence/
END:VEVENT
BEGIN:VEVENT
DTSTART;TZID=Europe/Paris:20220515T113000
DTEND;TZID=Europe/Paris:20220515T150000
DTSTAMP:20260424T083623
CREATED:20220511T084731Z
LAST-MODIFIED:20220511T084823Z
UID:3415-1652614200-1652626800@www.chateau-pepusque.fr
SUMMARY:La Banane - Palavas-Les-Flots
DESCRIPTION:Christophe Urios vous invite à venir découvrir le Château Pépusque au cours d’une dégustation & vente de vins à Palavas-les-Flots : \nLA BANANE – 37 Bd Sarrail\, 34250 Palavas-les-Flots \nCet évènement sera l’occasion de partager avec lui un moment convivial autour de ses vins du Minervois le dimanche 15 mai à partir de 11h30.
URL:https://www.chateau-pepusque.fr/event/la-banane-palavas-les-flots/
END:VEVENT
BEGIN:VEVENT
DTSTART;TZID=Europe/Paris:20220518T190000
DTEND;TZID=Europe/Paris:20220518T220000
DTSTAMP:20260424T083623
CREATED:20220511T085237Z
LAST-MODIFIED:20220511T085237Z
UID:3422-1652900400-1652911200@www.chateau-pepusque.fr
SUMMARY:Côté Patio - Aire sur l'Adour
DESCRIPTION:
URL:https://www.chateau-pepusque.fr/event/cote-patio-aire-sur-ladour/
END:VEVENT
BEGIN:VEVENT
DTSTART;TZID=Europe/Paris:20220522T110000
DTEND;TZID=Europe/Paris:20220522T150000
DTSTAMP:20260424T083623
CREATED:20220511T083322Z
LAST-MODIFIED:20220511T083623Z
UID:3412-1653217200-1653231600@www.chateau-pepusque.fr
SUMMARY:MARCO 2022
DESCRIPTION:Le 23 mai 2021\, nous avons rendu hommage\, à travers une cuvée en son honneur\, à mon ami Jean-Marc Manducher\, bien connu aussi sous le nom de « MARCO« . Cette journée et cette cuvée ont été un véritable succès et nous l’espérons aussi un beau clin d’oeil à ce grand monsieur. Ainsi\, nous avons décidé de renouveler notre invitation pour venir découvrir le millésime 2022 au Château Pépusque. \nCette journée aura lieu le dimanche 22 mai 2022 à partir de 11 h et sera l’occasion de se retrouver et de passer tous ensemble à nouveau un bon moment en sa mémoire autour du groupe de musique Eko Eko et de tapas réalisés par le traiteur l’Oustal de Carquet. \nDRESS CODE : Jaune \nMerci de confirmer votre présence : \n\nMail : contact@chateau-pepusque.fr\nTéléphone : 06 13 16 03 44\n\n 
URL:https://www.chateau-pepusque.fr/event/marco-2022/
END:VEVENT
BEGIN:VEVENT
DTSTART;TZID=Europe/Paris:20220527T000000
DTEND;TZID=Europe/Paris:20220529T000000
DTSTAMP:20260424T083623
CREATED:20220527T092008Z
LAST-MODIFIED:20220527T092618Z
UID:3436-1653609600-1653782400@www.chateau-pepusque.fr
SUMMARY:Festival des Vins & de la Gastronomie - Monein
DESCRIPTION:Le Château Pépusque sera présent au Festival des vins & de la Gastronomie de Monein. \nVenez déguster nos vins du Minervois et Minervois La Livinière ! 🍷 \nTéléchargez votre invitation  : Invitation – Festival des Vins de Monein \nHoraires : \n\nVendredi 27 mai : 17h – 22h\nSamedi 28 mai : 10h – 20h\nDimanche 29 mai : 10h – 18h\n\n  \n 
URL:https://www.chateau-pepusque.fr/event/festival-des-vins-de-la-gastronomie-monein/
END:VEVENT
END:VCALENDAR