BEGIN:VCALENDAR
VERSION:2.0
PRODID:-//Château Pépusque - ECPv6.15.20//NONSGML v1.0//EN
CALSCALE:GREGORIAN
METHOD:PUBLISH
X-ORIGINAL-URL:https://www.chateau-pepusque.fr
X-WR-CALDESC:Évènements pour Château Pépusque
REFRESH-INTERVAL;VALUE=DURATION:PT1H
X-Robots-Tag:noindex
X-PUBLISHED-TTL:PT1H
BEGIN:VTIMEZONE
TZID:Europe/Paris
BEGIN:DAYLIGHT
TZOFFSETFROM:+0100
TZOFFSETTO:+0200
TZNAME:CEST
DTSTART:20210328T010000
END:DAYLIGHT
BEGIN:STANDARD
TZOFFSETFROM:+0200
TZOFFSETTO:+0100
TZNAME:CET
DTSTART:20211031T010000
END:STANDARD
BEGIN:DAYLIGHT
TZOFFSETFROM:+0100
TZOFFSETTO:+0200
TZNAME:CEST
DTSTART:20220327T010000
END:DAYLIGHT
BEGIN:STANDARD
TZOFFSETFROM:+0200
TZOFFSETTO:+0100
TZNAME:CET
DTSTART:20221030T010000
END:STANDARD
BEGIN:DAYLIGHT
TZOFFSETFROM:+0100
TZOFFSETTO:+0200
TZNAME:CEST
DTSTART:20230326T010000
END:DAYLIGHT
BEGIN:STANDARD
TZOFFSETFROM:+0200
TZOFFSETTO:+0100
TZNAME:CET
DTSTART:20231029T010000
END:STANDARD
END:VTIMEZONE
BEGIN:VEVENT
DTSTART;TZID=Europe/Paris:20220814T113000
DTEND;TZID=Europe/Paris:20220814T150000
DTSTAMP:20260424T040217
CREATED:20220729T111657Z
LAST-MODIFIED:20220729T111657Z
UID:3490-1660476600-1660489200@www.chateau-pepusque.fr
SUMMARY:La Messe de Pépusque - 14 août
DESCRIPTION:La Messe de Pépusque \nDimanche 14 août à partir de 11h30\, rejoignez-nous pour une journée festive avec Christophe Urios au Château Pépusque. \nEntrée gratuite & inscription obligatoire : contact@chateau-pepusque.fr \n\nTapas – L’Oustal de Carquet\nMusique – Indigok\nBar à vins – Château Pépusque\n\nToutes les informations sur l’affiche ci-dessous :
URL:https://www.chateau-pepusque.fr/event/la-messe-de-pepusque-14-aout/
END:VEVENT
BEGIN:VEVENT
DTSTART;TZID=Europe/Paris:20220821T100000
DTEND;TZID=Europe/Paris:20220821T130000
DTSTAMP:20260424T040217
CREATED:20220805T113037Z
LAST-MODIFIED:20220805T113037Z
UID:3495-1661076000-1661086800@www.chateau-pepusque.fr
SUMMARY:Le Vestiaire - Bayonne
DESCRIPTION:Dégustation & vente de vins à Bayonne ! \nDimanche 21 août de 10h à 13h\, rejoignez-nous pour une dégustation & vente de vins au Vestiaire (2 Rue d’Espagne) à Bayonne avec Christophe Urios. \nToutes les informations sur l’affiche ci-dessous :
URL:https://www.chateau-pepusque.fr/event/bayonne/
END:VEVENT
END:VCALENDAR