BEGIN:VCALENDAR
VERSION:2.0
PRODID:-//Château Pépusque - ECPv6.15.20//NONSGML v1.0//EN
CALSCALE:GREGORIAN
METHOD:PUBLISH
X-ORIGINAL-URL:https://www.chateau-pepusque.fr
X-WR-CALDESC:Évènements pour Château Pépusque
REFRESH-INTERVAL;VALUE=DURATION:PT1H
X-Robots-Tag:noindex
X-PUBLISHED-TTL:PT1H
BEGIN:VTIMEZONE
TZID:Europe/Paris
BEGIN:DAYLIGHT
TZOFFSETFROM:+0100
TZOFFSETTO:+0200
TZNAME:CEST
DTSTART:20210328T010000
END:DAYLIGHT
BEGIN:STANDARD
TZOFFSETFROM:+0200
TZOFFSETTO:+0100
TZNAME:CET
DTSTART:20211031T010000
END:STANDARD
BEGIN:DAYLIGHT
TZOFFSETFROM:+0100
TZOFFSETTO:+0200
TZNAME:CEST
DTSTART:20220327T010000
END:DAYLIGHT
BEGIN:STANDARD
TZOFFSETFROM:+0200
TZOFFSETTO:+0100
TZNAME:CET
DTSTART:20221030T010000
END:STANDARD
BEGIN:DAYLIGHT
TZOFFSETFROM:+0100
TZOFFSETTO:+0200
TZNAME:CEST
DTSTART:20230326T010000
END:DAYLIGHT
BEGIN:STANDARD
TZOFFSETFROM:+0200
TZOFFSETTO:+0100
TZNAME:CET
DTSTART:20231029T010000
END:STANDARD
END:VTIMEZONE
BEGIN:VEVENT
DTSTART;VALUE=DATE:20221007
DTEND;VALUE=DATE:20221011
DTSTAMP:20260424T005020
CREATED:20220831T090825Z
LAST-MODIFIED:20220908T141823Z
UID:3510-1665100800-1665446399@www.chateau-pepusque.fr
SUMMARY:Salon Vins & Gastronomie - Vertou
DESCRIPTION:Aux Vignobles – Salon Vins & Gastronomie à Vertou\, retrouvez-nous au stand D08 pour redécouvrir nos vins du Minervois & Minervois La Livinière. \n\nVendredi 7 octobre : 17h – 21h\nSamedi 8 octobre : 10h – 20h\nDimanche 9 octobre : 10h – 19h\nLundi 10 octobre : 10h – 17h\n\nSalle Sèvre & Maine – 44210 VERTOU \nTéléchargez vos invitations en suivant ce lien : Invitation Vertou
URL:https://www.chateau-pepusque.fr/event/salon-vins-gastronomie-a-vertou/
END:VEVENT
BEGIN:VEVENT
DTSTART;VALUE=DATE:20221021
DTEND;VALUE=DATE:20221024
DTSTAMP:20260424T005020
CREATED:20220831T092113Z
LAST-MODIFIED:20220923T123035Z
UID:3513-1666310400-1666569599@www.chateau-pepusque.fr
SUMMARY:Salon Vins & Gastronomie - Chartres
DESCRIPTION:Aux Vignobles – Salon Vins & Gastronomie à Chartres\, retrouvez-nous au stand A19 pour redécouvrir nos vins du Minervois & Minervois La Livinière. \n\nVendredi 21 octobre : 10h – 21h\nSamedi 22 octobre : 10h – 19h\nDimanche 23 octobre : 10h – 18h\n\nChartrexpo – 28 000 CHARTRES \nTéléchargez vos invitations en suivant ce lien : Invitation Chartres
URL:https://www.chateau-pepusque.fr/event/salon-vins-gastronomie-chartres/
END:VEVENT
BEGIN:VEVENT
DTSTART;TZID=Europe/Paris:20221023T110000
DTEND;TZID=Europe/Paris:20221023T150000
DTSTAMP:20260424T005020
CREATED:20220831T093054Z
LAST-MODIFIED:20221004T110250Z
UID:3516-1666522800-1666537200@www.chateau-pepusque.fr
SUMMARY:Fête des Vendanges
DESCRIPTION:Le dimanche 23 octobre\, retrouvez Christophe Urios et son équipe au Château Pépusque pour fêter les vendanges 2022 ! \nRéservation obligatoire au 06 13 16 03 44 ou contact@chateau-pepusque.fr \nToutes les informations ci-dessous : \n \n 
URL:https://www.chateau-pepusque.fr/event/fete-des-vendanges/
END:VEVENT
END:VCALENDAR