BEGIN:VCALENDAR
VERSION:2.0
PRODID:-//Château Pépusque - ECPv6.15.20//NONSGML v1.0//EN
CALSCALE:GREGORIAN
METHOD:PUBLISH
X-WR-CALNAME:Château Pépusque
X-ORIGINAL-URL:https://www.chateau-pepusque.fr
X-WR-CALDESC:Évènements pour Château Pépusque
REFRESH-INTERVAL;VALUE=DURATION:PT1H
X-Robots-Tag:noindex
X-PUBLISHED-TTL:PT1H
BEGIN:VTIMEZONE
TZID:Europe/Paris
BEGIN:DAYLIGHT
TZOFFSETFROM:+0100
TZOFFSETTO:+0200
TZNAME:CEST
DTSTART:20210328T010000
END:DAYLIGHT
BEGIN:STANDARD
TZOFFSETFROM:+0200
TZOFFSETTO:+0100
TZNAME:CET
DTSTART:20211031T010000
END:STANDARD
BEGIN:DAYLIGHT
TZOFFSETFROM:+0100
TZOFFSETTO:+0200
TZNAME:CEST
DTSTART:20220327T010000
END:DAYLIGHT
BEGIN:STANDARD
TZOFFSETFROM:+0200
TZOFFSETTO:+0100
TZNAME:CET
DTSTART:20221030T010000
END:STANDARD
BEGIN:DAYLIGHT
TZOFFSETFROM:+0100
TZOFFSETTO:+0200
TZNAME:CEST
DTSTART:20230326T010000
END:DAYLIGHT
BEGIN:STANDARD
TZOFFSETFROM:+0200
TZOFFSETTO:+0100
TZNAME:CET
DTSTART:20231029T010000
END:STANDARD
END:VTIMEZONE
BEGIN:VEVENT
DTSTART;TZID=Europe/Paris:20221106T100000
DTEND;TZID=Europe/Paris:20221106T180000
DTSTAMP:20260423T225659
CREATED:20220831T093726Z
LAST-MODIFIED:20221102T112944Z
UID:3518-1667728800-1667757600@www.chateau-pepusque.fr
SUMMARY:Vini'Tarn
DESCRIPTION:Salon Vins & Gastronomie – « VINI’TARN » \nDégustation & Vente de vins – Château Pépusque \nBOUT DU PONT DE L’ARN\nDimanche 06 novembre 2022 de 10h à 18h \nTéléchargez vos invitations ici \n \n 
URL:https://www.chateau-pepusque.fr/event/vinitarn/
END:VEVENT
BEGIN:VEVENT
DTSTART;VALUE=DATE:20221111
DTEND;VALUE=DATE:20221115
DTSTAMP:20260423T225659
CREATED:20220831T094314Z
LAST-MODIFIED:20221027T141113Z
UID:3522-1668124800-1668470399@www.chateau-pepusque.fr
SUMMARY:Salon Vins & Gastronomie - Brest
DESCRIPTION:Aux Vignobles – Salon Vins & Gastronomie à Brest\, retrouvez-nous au stand E40 pour redécouvrir nos vins du Minervois & Minervois La Livinière. \n\nVendredi 11 novembre : 10h – 19h\nSamedi 12 novembre : 10h – 19h\nDimanche 13 novembre : 10h – 19h\nLundi 14 novembre : 10h – 17h\n\nBrest Expo – Parc de Penfeld – 29 820 Guilers \nTéléchargez vos invitations en suivant ce lien : Invitation Brest \nTéléchargez vos invitations pour l’Avant-Première\, le jeudi 10 novembre : Invitation Avant-Première \n \n 
URL:https://www.chateau-pepusque.fr/event/salon-vins-gastronomie-brest-2022/
END:VEVENT
BEGIN:VEVENT
DTSTART;VALUE=DATE:20221118
DTEND;VALUE=DATE:20221122
DTSTAMP:20260423T225659
CREATED:20220831T094956Z
LAST-MODIFIED:20221102T152303Z
UID:3524-1668729600-1669075199@www.chateau-pepusque.fr
SUMMARY:Salon Vins & Gastronomie - Gex
DESCRIPTION:Nous avons le plaisir de vous retrouver au 27ème salon Vins & Gastronomie du Pays de Gex du vendredi 18 au lundi 21 novembre 2022 à l’Espace Perdtemps à Gex. \nPrivilégiez la vente en directe des producteurs en venant faire vos achats au salon des vins et de la gastronomie du Pays de Gex\, tout cela dans une ambiance conviviale et détendue. Plus de 90 exposants vous attendent ! À cette occasion\, l’équipe du Château Pépusque vous accueillera pour déguster nos vins de terroir\, certifiés « Haute Valeur Environnementale 3 » & « Terra Vitis ». Christophe Urios sera présent une journée sur le salon pour vous faire découvrir ses vins du Minervois. \nPour recevoir gratuitement une invitation valable pour 2 personnes\, merci de nous transmettre votre adresse postale au mail suivant : contact@chateau-pepusque.fr \n\nVendredi 18 Novembre de 16h30 à 22h\nSamedi 19 Novembre de 10h à 22h\nDimanche 20 Novembre de 10h à 21h\nLundi 21 Novembre de 10h à 17h
URL:https://www.chateau-pepusque.fr/event/3524/
END:VEVENT
BEGIN:VEVENT
DTSTART;VALUE=DATE:20221119
DTEND;VALUE=DATE:20221120
DTSTAMP:20260423T225659
CREATED:20221004T114209Z
LAST-MODIFIED:20221028T082025Z
UID:3558-1668816000-1668902399@www.chateau-pepusque.fr
SUMMARY:Oyonnax - En Route pour Noël
DESCRIPTION:Commencez votre plongée dans l’univers magique des fêtes de fin d’année avec le retour du salon « EN ROUTE POUR NOËL » ! Décoration\, jouets\, bijoux ou gastronomie\, tous les goûts seront comblés ! \nChristophe Urios sera présent sur notre stand C12 pour l’évènement « En Route pour Noël » à Oyonnax le samedi 19 novembre pour vous faire découvrir ses vins du Minervois ! \n\nVendredi 18 novembre : 16h – 22h\nSamedi 19 novembre : 10h – 21h\nDimanche 20 novembre : 10h – 18h\n\nTéléchargez vos invitations ici. \nLieu : Valexpo\, 88 Cours de Verdun – 01100 Oyonnax \nParking gratuit. \nPlus d’informations : 06 13 16 03 44 ou contact@chateau-pepusque.fr
URL:https://www.chateau-pepusque.fr/event/oyonnax-en-route-pour-noel/
END:VEVENT
BEGIN:VEVENT
DTSTART;VALUE=DATE:20221126
DTEND;VALUE=DATE:20221128
DTSTAMP:20260423T225659
CREATED:20221004T115312Z
LAST-MODIFIED:20221004T120128Z
UID:3564-1669420800-1669593599@www.chateau-pepusque.fr
SUMMARY:Ussel - Salon des Vins & de la Gastronomie
DESCRIPTION:19ème Salon du Vin du pays d’USSEL qui se déroulera le 26 et le 27 novembre 2022. \nLe Château Pépusque sera présent au Salon du Vin au pays d’Ussel \n\nSamedi 26 novembre 2022 de 14h à 20h30\nDimanche 27 novembre 2022 de 10h à 18h\n\nPlus d’informations à venir…
URL:https://www.chateau-pepusque.fr/event/ussel-salon-des-vins-de-la-gastronomie/
END:VEVENT
END:VCALENDAR