BEGIN:VCALENDAR
VERSION:2.0
PRODID:-//Château Pépusque - ECPv6.15.20//NONSGML v1.0//EN
CALSCALE:GREGORIAN
METHOD:PUBLISH
X-WR-CALNAME:Château Pépusque
X-ORIGINAL-URL:https://www.chateau-pepusque.fr
X-WR-CALDESC:Évènements pour Château Pépusque
REFRESH-INTERVAL;VALUE=DURATION:PT1H
X-Robots-Tag:noindex
X-PUBLISHED-TTL:PT1H
BEGIN:VTIMEZONE
TZID:Europe/Paris
BEGIN:DAYLIGHT
TZOFFSETFROM:+0100
TZOFFSETTO:+0200
TZNAME:CEST
DTSTART:20220327T010000
END:DAYLIGHT
BEGIN:STANDARD
TZOFFSETFROM:+0200
TZOFFSETTO:+0100
TZNAME:CET
DTSTART:20221030T010000
END:STANDARD
BEGIN:DAYLIGHT
TZOFFSETFROM:+0100
TZOFFSETTO:+0200
TZNAME:CEST
DTSTART:20230326T010000
END:DAYLIGHT
BEGIN:STANDARD
TZOFFSETFROM:+0200
TZOFFSETTO:+0100
TZNAME:CET
DTSTART:20231029T010000
END:STANDARD
BEGIN:DAYLIGHT
TZOFFSETFROM:+0100
TZOFFSETTO:+0200
TZNAME:CEST
DTSTART:20240331T010000
END:DAYLIGHT
BEGIN:STANDARD
TZOFFSETFROM:+0200
TZOFFSETTO:+0100
TZNAME:CET
DTSTART:20241027T010000
END:STANDARD
END:VTIMEZONE
BEGIN:VEVENT
DTSTART;TZID=Europe/Paris:20230129T110000
DTEND;TZID=Europe/Paris:20230129T150000
DTSTAMP:20260423T201015
CREATED:20230116T091424Z
LAST-MODIFIED:20230116T091759Z
UID:3674-1674990000-1675004400@www.chateau-pepusque.fr
SUMMARY:Messe - James Bond
DESCRIPTION:Nous avons le plaisir de vous inviter à notre MESSE « JAMES BOND » qui aura lieu le dimanche 29 janvier à partir de 11h. Venez passer un agréable moment avec Christophe Urios et toute son équipe ! \nAu Programme : \n\nRepas avec Le Camion Qui Grille\nHampe de l’Aubrac\, Magret de canard du Gers\, Coeur de canard et Jambon braisé de l’Aveyron\, servi avec des frites fraîches (Payant sur place)\nMusique : Mel&Co\n\nDress Code\nTenue de soirée pour ces Dames\nChemise & nœud papillon pour ces Messieurs \nL’entrée est gratuite\, merci de confirmer votre présence :\n06 13 16 03 44 – contact@chateau-pepusque.fr \nBelle journée\,\nToute l’équipe du Château Pépusque
URL:https://www.chateau-pepusque.fr/event/messe-james-bond/
END:VEVENT
END:VCALENDAR