BEGIN:VCALENDAR
VERSION:2.0
PRODID:-//Château Pépusque - ECPv6.15.20//NONSGML v1.0//EN
CALSCALE:GREGORIAN
METHOD:PUBLISH
X-ORIGINAL-URL:https://www.chateau-pepusque.fr
X-WR-CALDESC:Évènements pour Château Pépusque
REFRESH-INTERVAL;VALUE=DURATION:PT1H
X-Robots-Tag:noindex
X-PUBLISHED-TTL:PT1H
BEGIN:VTIMEZONE
TZID:Europe/Paris
BEGIN:DAYLIGHT
TZOFFSETFROM:+0100
TZOFFSETTO:+0200
TZNAME:CEST
DTSTART:20220327T010000
END:DAYLIGHT
BEGIN:STANDARD
TZOFFSETFROM:+0200
TZOFFSETTO:+0100
TZNAME:CET
DTSTART:20221030T010000
END:STANDARD
BEGIN:DAYLIGHT
TZOFFSETFROM:+0100
TZOFFSETTO:+0200
TZNAME:CEST
DTSTART:20230326T010000
END:DAYLIGHT
BEGIN:STANDARD
TZOFFSETFROM:+0200
TZOFFSETTO:+0100
TZNAME:CET
DTSTART:20231029T010000
END:STANDARD
BEGIN:DAYLIGHT
TZOFFSETFROM:+0100
TZOFFSETTO:+0200
TZNAME:CEST
DTSTART:20240331T010000
END:DAYLIGHT
BEGIN:STANDARD
TZOFFSETFROM:+0200
TZOFFSETTO:+0100
TZNAME:CET
DTSTART:20241027T010000
END:STANDARD
END:VTIMEZONE
BEGIN:VEVENT
DTSTART;VALUE=DATE:20230210
DTEND;VALUE=DATE:20230214
DTSTAMP:20260423T184608
CREATED:20230116T093422Z
LAST-MODIFIED:20230116T093521Z
UID:3682-1675987200-1676332799@www.chateau-pepusque.fr
SUMMARY:Aux Vignobles ! Vertou (44)
DESCRIPTION:Aux Vignobles ! Salon Vins & Gastronomie à Vertou  – Salle Sèvre & Maine du 10 au 13 février 2023. \nRetrouvez-nous au stand D08 pour (re)découvrir nos vins du Minervois & Minervois La Livinière. Pour cette 30ème édition de l’événement\, 80 artisans et producteurs venus de toute la France donnent rendez-vous aux gourmands\, gourmets ou simples curieux. \n\nVendredi 10 février : 17h – 21h\nSamedi 11 février : 10h – 20h\nDimanche 12 février : 10h – 19h\nLundi 13 février : 10h – 17h\n\nTéléchargez vos invitations en suivant ce lien : Invitation Vertou \nBelle journée\, \nToute l’équipe du Château Pépusque
URL:https://www.chateau-pepusque.fr/event/aux-vignobles-vertou-44/
END:VEVENT
BEGIN:VEVENT
DTSTART;VALUE=DATE:20230217
DTEND;VALUE=DATE:20230221
DTSTAMP:20260423T184608
CREATED:20230117T155638Z
LAST-MODIFIED:20230216T090538Z
UID:3684-1676592000-1676937599@www.chateau-pepusque.fr
SUMMARY:Aux Vignobles ! Le Havre
DESCRIPTION:Nous avons le plaisir de vous retrouver au Salon Aux Vignobles – Le Havre au Carré des Docks du 17 au 20 février 2023.  \nPour cette 24ème édition de l’événement\, 120 artisans et producteurs venus de toute la France donnent rendez-vous aux gourmands\, gourmets ou simples curieux. À cette occasion\, le Château Pépusque vous accueillera au stand E11-E13 pour venir déguster nos vins de terroir\, certifiés « Haute Valeur Environnementale 3 » & « Terra Vitis ». \nVeuillez trouver vos invitations gratuites pour 2 personnes pour ce salon : Invitation Le Havre \n\nLe vendredi 17 février de 17h à 21h\nLe samedi 18 février de 10h à 20h\nLe dimanche 19 février de 10h à 19h\nLe lundi 20 février de 10h à 17h\n\nBelle journée\, \nToute l’équipe du Château Pépusque \n 
URL:https://www.chateau-pepusque.fr/event/aux-vignobles-le-havre/
END:VEVENT
END:VCALENDAR