BEGIN:VCALENDAR
VERSION:2.0
PRODID:-//Château Pépusque - ECPv6.15.20//NONSGML v1.0//EN
CALSCALE:GREGORIAN
METHOD:PUBLISH
X-ORIGINAL-URL:https://www.chateau-pepusque.fr
X-WR-CALDESC:Évènements pour Château Pépusque
REFRESH-INTERVAL;VALUE=DURATION:PT1H
X-Robots-Tag:noindex
X-PUBLISHED-TTL:PT1H
BEGIN:VTIMEZONE
TZID:Europe/Paris
BEGIN:DAYLIGHT
TZOFFSETFROM:+0100
TZOFFSETTO:+0200
TZNAME:CEST
DTSTART:20220327T010000
END:DAYLIGHT
BEGIN:STANDARD
TZOFFSETFROM:+0200
TZOFFSETTO:+0100
TZNAME:CET
DTSTART:20221030T010000
END:STANDARD
BEGIN:DAYLIGHT
TZOFFSETFROM:+0100
TZOFFSETTO:+0200
TZNAME:CEST
DTSTART:20230326T010000
END:DAYLIGHT
BEGIN:STANDARD
TZOFFSETFROM:+0200
TZOFFSETTO:+0100
TZNAME:CET
DTSTART:20231029T010000
END:STANDARD
BEGIN:DAYLIGHT
TZOFFSETFROM:+0100
TZOFFSETTO:+0200
TZNAME:CEST
DTSTART:20240331T010000
END:DAYLIGHT
BEGIN:STANDARD
TZOFFSETFROM:+0200
TZOFFSETTO:+0100
TZNAME:CET
DTSTART:20241027T010000
END:STANDARD
END:VTIMEZONE
BEGIN:VEVENT
DTSTART;VALUE=DATE:20230303
DTEND;VALUE=DATE:20230306
DTSTAMP:20260423T171234
CREATED:20230216T082210Z
LAST-MODIFIED:20230216T082712Z
UID:3704-1677801600-1678060799@www.chateau-pepusque.fr
SUMMARY:37ème Festival des Vins - Le Mans
DESCRIPTION:Le Club des Loisirs de Laigné-en-Belin est principalement connu pour son Festival des Vins et de la Gastronomie qui se déroule chaque premier weekend du mois de Mars. Lors de cet évènement\, 65 vignerons font déguster gratuitement le fruit de leur production. À tout juste dix minutes du Mans\, c’est plus de 13 000 visiteurs qui parcourent les allées du festival durant trois jours. \nTéléchargez vos invitations ici \nLe prochain Festival des Vins se déroulera : \n\nVendredi 3 mars : 10h – 20h\nSamedi 4 mars : 10h – 19h\nDimanche 5 mars : 10h – 18h
URL:https://www.chateau-pepusque.fr/event/37eme-festival-des-vins-le-mans/
END:VEVENT
BEGIN:VEVENT
DTSTART;VALUE=DATE:20230310
DTEND;VALUE=DATE:20230314
DTSTAMP:20260423T171234
CREATED:20230216T083437Z
LAST-MODIFIED:20230221T092532Z
UID:3712-1678406400-1678751999@www.chateau-pepusque.fr
SUMMARY:Aux Vignobles - Vannes
DESCRIPTION:Pour cette 30e édition de l’événement\, 130 artisans et producteurs venus de toute la France donnent rendez-vous aux gourmands\, gourmets ou simples curieux. Chaque terroir développe en permanence des produits de caractère\, issus de savoir-faire uniques que chaque exposant viendra défendre avec passion. Savamment agencés\, leurs stands promettent d’offrir aux regards\, comme à la dégustation\, une multitude de gourmandises aux saveurs originales et variées (chocolats ou thés\, charcuterie ou fromages\, vins bio\, artisanaux ou d’appellation d’origine). \nTéléchargez vos invitations ici \n\nLe vendredi 10 mars de 17h à 21h\nLe samedi 11 mars de 10h à 20h\nLe dimanche 12 mars de 10h à 19h\nLe lundi 13 mars de 10h à 17h\n\nLieu \nLe Chorus\nParc du Golfe\n56000 Vannes\nwww.lechorus.com \n 
URL:https://www.chateau-pepusque.fr/event/aux-vignobles-vannes/
END:VEVENT
BEGIN:VEVENT
DTSTART;VALUE=DATE:20230319
DTEND;VALUE=DATE:20230320
DTSTAMP:20260423T171234
CREATED:20230228T110258Z
LAST-MODIFIED:20230302T181059Z
UID:3727-1679184000-1679270399@www.chateau-pepusque.fr
SUMMARY:Messe de Printemps
DESCRIPTION:MESSE DE PRINTEMPS \nNous avons le plaisir de vous convier à notre Messe de Printemps avec Christophe Urios le dimanche 19 mars de 11h à 15h. Pour partager cette journée de convivialité\, Little Italy pour les pizzas et le groupe de musique « Chic Wah Wah » seront à nos côtés pour assurer une ambiance festive. \nDress code : Tenues à fleurs \nInscription obligatoire par mail : contact@chateau-pepusque.fr ou 06 13 16 03 44 \nBelle journée\, \nToute l’équipe du Château Pépusque
URL:https://www.chateau-pepusque.fr/event/messe-de-printemps/
END:VEVENT
BEGIN:VEVENT
DTSTART;VALUE=DATE:20230324
DTEND;VALUE=DATE:20230327
DTSTAMP:20260423T171234
CREATED:20230216T123130Z
LAST-MODIFIED:20230321T085918Z
UID:3719-1679616000-1679875199@www.chateau-pepusque.fr
SUMMARY:Plein les Papilles - Oyonnax
DESCRIPTION:Les 24\, 25 et 26 mars\, place à l’art de la gastronomie et de l’œnologie au sein du Grand Hall de Valexpo avec le salon Plein les Papilles ! Découvrez ses multiples exposants\, artisans\, producteurs et vignerons venus de toute la France et parfois d’ailleurs pour vous faire déguster leur production et autre sélection qui raviront vos papilles. \n> Plus de 75 exposants (gastronomie\, vins\, bières et spiritueux) seront présents pour le plaisir des amateurs comme des connaisseurs\n> Plus de 125 appellations\, viticoles et gastronomiques\, des plus accessibles aux plus prestigieuses.\n> Deux espaces dédiés à la dégustation\n> Food trucks locaux\n> Un verre offert à l’accueil pour les amateurs de vins (dans la limite des stocks disponibles)\n> Un service d’aide au portage des achats\, gratuit\, assuré par les étudiants du Lycée Paul Painlevé. \n Téléchargez vos invitations ici \nNouveautés 2023 :\n> + 30 nouveaux exposants : vins de Loire / Jura / Vallée du Rhône / Moldavie / spécialités grecques>\n> Edition parrainée par Georges Blanc\n> 1 village « Picorez dans l’Ain»\, avec des animations exclusives avec des chefs cuisiniers\n> Millésimé by Clémence Guillet\, Sommelière oyonnaxienne : Clémence vous orientera dans vos découvertes œnologiques et proposera des idées d’accords mets-vins… \nInformations Pratiques\nHoraires :\nVendredi 24 mars – de 15h à 21h\nSamedi 25 mars – de 10h à 20h\nDimanche 26 mars – de 10h à 18h \nEntrée :\nTarif : 2€\nInterdit aux mineurs de – 18 ans non accompagnés d’un adulte \n+ d’infos : \n04 74 77 35 96\nvalexpo@oyonnax.fr
URL:https://www.chateau-pepusque.fr/event/oyonnax-2/
END:VEVENT
BEGIN:VEVENT
DTSTART;VALUE=DATE:20230331
DTEND;VALUE=DATE:20230403
DTSTAMP:20260423T171234
CREATED:20230216T123623Z
LAST-MODIFIED:20230321T110522Z
UID:3721-1680220800-1680479999@www.chateau-pepusque.fr
SUMMARY:Aux Vignobles - Metz
DESCRIPTION:Du 31 mars au 2 avril\, le Salon Aux Vignoble ! 2023 fait étape à Metz\, où il s’ouvre\, à nouveau\, sur le monde de l’artisanat gastronomique et viticole. Pour cette 23e édition de l’événement\, 90 artisans et producteurs venus de toute la France donnent rendez-vous aux gourmands\, gourmets ou simples curieux. \nChaque terroir développe en permanence des produits de caractère\, issus de savoir-faire uniques que chaque exposant viendra défendre avec passion. Savamment agencés\, leurs stands promettent d’offrir aux regards\, comme à la dégustation\, une multitude de gourmandises aux saveurs originales et variées (chocolats ou thés\, charcuterie ou fromages\, vins bio\, artisanaux ou d’appellation d’origine). \nTéléchargez vos invitations pour nous retrouver \nDates & Horaires \nLe vendredi 31 mars de 10h à 20h \nLe samedi 1er avril de 10h à 20h\nLe dimanche 2 avril de 10h à 18h \nLieu \nMetz Expo\nRue de la Grange aux bois\n57070 Metz\nmetz-expo.com \n \n 
URL:https://www.chateau-pepusque.fr/event/aux-vignobles-metz/
END:VEVENT
END:VCALENDAR