BEGIN:VCALENDAR
VERSION:2.0
PRODID:-//Château Pépusque - ECPv6.15.20//NONSGML v1.0//EN
CALSCALE:GREGORIAN
METHOD:PUBLISH
X-WR-CALNAME:Château Pépusque
X-ORIGINAL-URL:https://www.chateau-pepusque.fr
X-WR-CALDESC:Évènements pour Château Pépusque
REFRESH-INTERVAL;VALUE=DURATION:PT1H
X-Robots-Tag:noindex
X-PUBLISHED-TTL:PT1H
BEGIN:VTIMEZONE
TZID:Europe/Paris
BEGIN:DAYLIGHT
TZOFFSETFROM:+0100
TZOFFSETTO:+0200
TZNAME:CEST
DTSTART:20220327T010000
END:DAYLIGHT
BEGIN:STANDARD
TZOFFSETFROM:+0200
TZOFFSETTO:+0100
TZNAME:CET
DTSTART:20221030T010000
END:STANDARD
BEGIN:DAYLIGHT
TZOFFSETFROM:+0100
TZOFFSETTO:+0200
TZNAME:CEST
DTSTART:20230326T010000
END:DAYLIGHT
BEGIN:STANDARD
TZOFFSETFROM:+0200
TZOFFSETTO:+0100
TZNAME:CET
DTSTART:20231029T010000
END:STANDARD
BEGIN:DAYLIGHT
TZOFFSETFROM:+0100
TZOFFSETTO:+0200
TZNAME:CEST
DTSTART:20240331T010000
END:DAYLIGHT
BEGIN:STANDARD
TZOFFSETFROM:+0200
TZOFFSETTO:+0100
TZNAME:CET
DTSTART:20241027T010000
END:STANDARD
END:VTIMEZONE
BEGIN:VEVENT
DTSTART;TZID=Europe/Paris:20230603T180000
DTEND;TZID=Europe/Paris:20230603T220000
DTSTAMP:20260423T130631
CREATED:20230517T073924Z
LAST-MODIFIED:20230531T113616Z
UID:3832-1685815200-1685829600@www.chateau-pepusque.fr
SUMMARY:Les Pèlerins de Pépusque
DESCRIPTION:LES PÈLERINS DE PÉPUSQUE \nLes Pèlerins de Pépusque\, le nouveau vin blanc légèrement sucré du Château Pépusque\, sera à l’honneur ! Christophe Urios vous invite à célébrer sa sortie lors d’une soirée conviviale avec le food truck « BEEF OR FISH ». Cette « Messe » se déroulera exceptionnellement le samedi 03 juin à partir de 18h\, avec Sud Loisirs Animations pour assurer une ambiance festive. \nNos espadrilles « Les Pèlerins de Pépusque » seront disponibles à la vente ! \nPour réserver votre place\, vous pouvez nous contacter aux coordonnées suivantes : \n\nTéléphone : 06 13 16 03 44\nEmail : contact@chateau-pepusque.fr\n\nTous en espadrilles et préparez-vous à passer une agréable soirée en compagnie de Christophe Urios ! \n 
URL:https://www.chateau-pepusque.fr/event/les-pelerins-de-pepusque/
END:VEVENT
BEGIN:VEVENT
DTSTART;TZID=Europe/Paris:20230616T180000
DTEND;TZID=Europe/Paris:20230616T210000
DTSTAMP:20260423T130631
CREATED:20230606T100527Z
LAST-MODIFIED:20230606T102758Z
UID:3855-1686938400-1686949200@www.chateau-pepusque.fr
SUMMARY:Quillan - Limoux
DESCRIPTION:QUILLAN – LIMOUX \nDEGUSTATION – CHÂTEAU PÉPUSQUE \nLe Château Pépusque vous convie le vendredi 16 juin à partir de 18h pour une dégustation & vente de vins du Château Pépusque\, en présence de Christophe Urios. \nRendez-vous avec l’équipe de Pépusque ici : \nPlace de la République \n11 500 QUILLAN
URL:https://www.chateau-pepusque.fr/event/quillan-limoux/
END:VEVENT
BEGIN:VEVENT
DTSTART;TZID=Europe/Paris:20230622T180000
DTEND;TZID=Europe/Paris:20230622T210000
DTSTAMP:20260423T130631
CREATED:20230606T103155Z
LAST-MODIFIED:20230606T103651Z
UID:3860-1687456800-1687467600@www.chateau-pepusque.fr
SUMMARY:Béziers - Caves Notre Dame
DESCRIPTION:Béziers – Caves Notre Dame \nDEGUSTATION – CHÂTEAU PÉPUSQUE \nLe Château Pépusque vous convie le jeudi 22 juin à partir de 18h pour une dégustation & vente de vins du Château Pépusque\, en présence de Christophe Urios. \nRendez-vous avec l’équipe de Pépusque ici : \nCAVES NOTRE DAME \nDomaine de la Crouzette \n61 Chem. de Badones \n34500 Béziers \nTéléphone : 04 67 09 39 79
URL:https://www.chateau-pepusque.fr/event/beziers-caves-notre-dame/
END:VEVENT
BEGIN:VEVENT
DTSTART;VALUE=DATE:20230630
DTEND;VALUE=DATE:20230703
DTSTAMP:20260423T130631
CREATED:20230421T115338Z
LAST-MODIFIED:20230625T120442Z
UID:3794-1688083200-1688342399@www.chateau-pepusque.fr
SUMMARY:Le Festival de Pépusque
DESCRIPTION:LE FESTIVAL DE PÉPUSQUE \n30 juin au 2 juillet \nRetrouvez le programme du Festival de Pépusque ! \nInscrivez-vous au Festival de Pépusque du 30 Juin au 02 juillet 2023 ! \nVideo Christophe Urios  – Festival \n 𝚅𝚎𝚗𝚍𝚛𝚎𝚍𝚒 𝟹𝟶 𝙹𝚞𝚒𝚗 – 𝙾̂ 𝚎𝚗 𝙲𝚘𝚞𝚕𝚎𝚞𝚛𝚜 \nLancement du Festival\, soirée paëlla & musique « Les Impros ». \n Entrée à 20€/personne pour le repas\, inscription obligatoire. \n𝐃𝐫𝐞𝐬𝐬 𝐂𝐨𝐝𝐞  𝐓𝐨𝐮𝐬 𝐞𝐧 𝐂𝐨𝐮𝐥𝐞𝐮𝐫𝐬 \n 𝚂𝚊𝚖𝚎𝚍𝚒 𝟶𝟷 𝙹𝚞𝚒𝚕𝚕𝚎𝚝 – 𝙾̂ 𝚕𝚎𝚜 𝙿𝚎̀𝚕𝚎𝚛𝚒𝚗𝚜 \nMarché de Pépusque (entrée libre) \nOlympiades de Pépusque\, mini jeux par équipe de 6 (mixte). Activité gratuite sur inscription. \n Soirée Braséro & Bandas « Les Z’improvistes » \nEntrée à 25€/personne pour le repas\, inscription obligatoire. \n𝐃𝐫𝐞𝐬𝐬 𝐂𝐨𝐝𝐞  𝐓𝐨𝐮𝐬 𝐞𝐧 𝐑𝐨𝐮𝐠𝐞  \n  \n𝙳𝚒𝚖𝚊𝚗𝚌𝚑𝚎 𝟶𝟸 𝙹𝚞𝚒𝚕𝚕𝚎𝚝 – 𝙾̂ 𝚁𝚊𝚌𝚒𝚗𝚎𝚜 \nRepas \nPlateau cocktail \nSalade Lauragaise \nSuprême de pintade sauce forestière et son gratin de pomme de terre à l’ail des ours \nPlateaux de fromages \nDesserts \n4 bouteilles de vins du château Pépusque par table avec musique Jazz par les Tontons Funkeurs. Entrée à 60€/personne pour le repas\, inscription obligatoire. \n𝐃𝐫𝐞𝐬𝐬 𝐂𝐨𝐝𝐞  𝐓𝐨𝐮𝐬 𝐞𝐧 𝐁𝐥𝐚𝐧𝐜  \n 06 13 16 03 44  contact@chateau-pepusque.fr \n  \nÀ partager sans modération ! \nPlaces limitées\, inscription obligatoire au 06 13 16 03 44 ou contact@chateau-pepusque.fr
URL:https://www.chateau-pepusque.fr/event/le-festival-de-pepusque/
END:VEVENT
END:VCALENDAR