BEGIN:VCALENDAR
VERSION:2.0
PRODID:-//Château Pépusque - ECPv6.15.20//NONSGML v1.0//EN
CALSCALE:GREGORIAN
METHOD:PUBLISH
X-WR-CALNAME:Château Pépusque
X-ORIGINAL-URL:https://www.chateau-pepusque.fr
X-WR-CALDESC:Évènements pour Château Pépusque
REFRESH-INTERVAL;VALUE=DURATION:PT1H
X-Robots-Tag:noindex
X-PUBLISHED-TTL:PT1H
BEGIN:VTIMEZONE
TZID:Europe/Paris
BEGIN:DAYLIGHT
TZOFFSETFROM:+0100
TZOFFSETTO:+0200
TZNAME:CEST
DTSTART:20220327T010000
END:DAYLIGHT
BEGIN:STANDARD
TZOFFSETFROM:+0200
TZOFFSETTO:+0100
TZNAME:CET
DTSTART:20221030T010000
END:STANDARD
BEGIN:DAYLIGHT
TZOFFSETFROM:+0100
TZOFFSETTO:+0200
TZNAME:CEST
DTSTART:20230326T010000
END:DAYLIGHT
BEGIN:STANDARD
TZOFFSETFROM:+0200
TZOFFSETTO:+0100
TZNAME:CET
DTSTART:20231029T010000
END:STANDARD
BEGIN:DAYLIGHT
TZOFFSETFROM:+0100
TZOFFSETTO:+0200
TZNAME:CEST
DTSTART:20240331T010000
END:DAYLIGHT
BEGIN:STANDARD
TZOFFSETFROM:+0200
TZOFFSETTO:+0100
TZNAME:CET
DTSTART:20241027T010000
END:STANDARD
END:VTIMEZONE
BEGIN:VEVENT
DTSTART;VALUE=DATE:20230805
DTEND;VALUE=DATE:20230807
DTSTAMP:20260423T103328
CREATED:20230627T151359Z
LAST-MODIFIED:20230627T151426Z
UID:3889-1691193600-1691366399@www.chateau-pepusque.fr
SUMMARY:Fourmofolies - Ambert
DESCRIPTION:FOURMOFOLIES – AMBERT \nÀ Ambert\, la star s’appelle la Fourme. Petit fromage au grand destin\, elle s’invite sur toutes les tables de France\, et arbore fièrement son AOP. Emblème de tout un territoire\, il n’est que justice qu’elle soit fêtée comme il se doit. Cette année encore\, l’AOP Fourme d’Ambert est la star des fameuses Fourmofolies à Ambert les 5 et 6 août 2023. \nA cette occasion\, le Château Pépusque tiendra un stand pour vous déguster et découvrir nos vins du Minervois et du Cru La Livinière. \nRendez-vous à Ambert !
URL:https://www.chateau-pepusque.fr/event/fourmofolies-ambert/
END:VEVENT
BEGIN:VEVENT
DTSTART;TZID=Europe/Paris:20230813T110000
DTEND;TZID=Europe/Paris:20230813T150000
DTSTAMP:20260423T103328
CREATED:20230727T084839Z
LAST-MODIFIED:20230727T092821Z
UID:3915-1691924400-1691938800@www.chateau-pepusque.fr
SUMMARY:Le Temps d'un Été
DESCRIPTION:LE TEMPS D’UN ETE \nL’été est arrivé et avec lui\, le moment de partager des moments conviviaux et festifs ! C’est avec une grande joie que nous vous invitons à notre événement estival au Château Pépusque. \nAu programme\, nous aurons le plaisir de vous proposer un « Beef or Fish » et pour animer cette journée\, nous avons choisi « Los Ninos » qui vous fera vibrer au rythme de son répertoire festif ! \nLa date de l’événement est fixée au 13 août à partir de 11h au Château Pépusque. Nous espérons vivement que vous pourrez vous joindre à nous pour cette belle journée. \nAfin de faciliter l’organisation de cet événement\, nous vous remercions de bien vouloir confirmer votre présence par retour de mail ou en nous contactant au 06 13 16 03 44. \nBelle journée\, \nToute l’équipe du Château Pépusque
URL:https://www.chateau-pepusque.fr/event/le-temps-dun-ete/
END:VEVENT
BEGIN:VEVENT
DTSTART;TZID=Europe/Paris:20230818T190000
DTEND;TZID=Europe/Paris:20230818T220000
DTSTAMP:20260423T103328
CREATED:20230706T090939Z
LAST-MODIFIED:20230706T090939Z
UID:3897-1692385200-1692396000@www.chateau-pepusque.fr
SUMMARY:Braséro - Château Pépusque
DESCRIPTION:BRASERO – CHÂTEAU PEPUSQUE \n(35€/personne) \nRendez-vous le vendredi 18 août à partir de 19h au Château Pépusque pour une soirée braséro autour du thème « Karaoké ». \nRéservation obligatoire. \nPlus d’informations & réservation : 06 13 16 03 44
URL:https://www.chateau-pepusque.fr/event/brasero-chateau-pepusque-2/
END:VEVENT
BEGIN:VEVENT
DTSTART;TZID=Europe/Paris:20230825T190000
DTEND;TZID=Europe/Paris:20230825T220000
DTSTAMP:20260423T103328
CREATED:20230706T091227Z
LAST-MODIFIED:20230706T091441Z
UID:3899-1692990000-1693000800@www.chateau-pepusque.fr
SUMMARY:Repas dans les vignes - Château Pépusque
DESCRIPTION:REPAS DANS LES VIGNES  – CHÂTEAU PEPUSQUE \n(35€/personne) \nRendez-vous le vendredi 25 août à partir de 19h au Château Pépusque pour un repas dans nos vignes avec une paëlla. \nRéservation obligatoire. \nPlus d’informations & réservation : 06 13 16 03 44
URL:https://www.chateau-pepusque.fr/event/repas-dans-les-vignes-chateau-pepusque/
END:VEVENT
END:VCALENDAR