BEGIN:VCALENDAR
VERSION:2.0
PRODID:-//Château Pépusque - ECPv6.15.20//NONSGML v1.0//EN
CALSCALE:GREGORIAN
METHOD:PUBLISH
X-WR-CALNAME:Château Pépusque
X-ORIGINAL-URL:https://www.chateau-pepusque.fr
X-WR-CALDESC:Évènements pour Château Pépusque
REFRESH-INTERVAL;VALUE=DURATION:PT1H
X-Robots-Tag:noindex
X-PUBLISHED-TTL:PT1H
BEGIN:VTIMEZONE
TZID:Europe/Paris
BEGIN:DAYLIGHT
TZOFFSETFROM:+0100
TZOFFSETTO:+0200
TZNAME:CEST
DTSTART:20220327T010000
END:DAYLIGHT
BEGIN:STANDARD
TZOFFSETFROM:+0200
TZOFFSETTO:+0100
TZNAME:CET
DTSTART:20221030T010000
END:STANDARD
BEGIN:DAYLIGHT
TZOFFSETFROM:+0100
TZOFFSETTO:+0200
TZNAME:CEST
DTSTART:20230326T010000
END:DAYLIGHT
BEGIN:STANDARD
TZOFFSETFROM:+0200
TZOFFSETTO:+0100
TZNAME:CET
DTSTART:20231029T010000
END:STANDARD
BEGIN:DAYLIGHT
TZOFFSETFROM:+0100
TZOFFSETTO:+0200
TZNAME:CEST
DTSTART:20240331T010000
END:DAYLIGHT
BEGIN:STANDARD
TZOFFSETFROM:+0200
TZOFFSETTO:+0100
TZNAME:CET
DTSTART:20241027T010000
END:STANDARD
END:VTIMEZONE
BEGIN:VEVENT
DTSTART;TZID=Europe/Paris:20231217T113000
DTEND;TZID=Europe/Paris:20231217T150000
DTSTAMP:20260423T050227
CREATED:20231206T092037Z
LAST-MODIFIED:20231206T092037Z
UID:4024-1702812600-1702825200@www.chateau-pepusque.fr
SUMMARY:Messe de Noël 2023
DESCRIPTION:Chers amis de Pépusque\, \nPlongez dans la magie des fêtes de fin d’année avec l’équipe du Château Pépusque\, le Dimanche 17 décembre à partir de 11h30. \nCette année\, notre équipe travaille d’arrache-pied pour vous préparer une journée qui\, nous l’espérons\, sera inoubliable. Et pour vous remercier de tous ces beaux moments passés à vos côtés en cette année 2023\, nous préparons un concours pour tenter de vous faire remporter un cadeau ! \nRestez à l’affût\, car de plus amples informations suivront dans les prochains e-mails et sur les réseaux sociaux ! \nLe repas sera composé de planches de charcuteries pour l’entrée ainsi que d’un délicieux Cassoulet concocté par notre partenaire l’Oustal de Carquet. L’ambiance musicale sera au beau fixe avec les Bandas Peña del Sol. \nRéservez votre place dès maintenant et partagez les rires\, la bonne nourriture et l’esprit de Noël avec nous. N’oubliez pas de réserver à l’avance\, les places sont limitées ! \nTéléphone : 06 13 16 03 44
URL:https://www.chateau-pepusque.fr/event/messe-de-noel-2023/
END:VEVENT
END:VCALENDAR