BEGIN:VCALENDAR
VERSION:2.0
PRODID:-//Château Pépusque - ECPv6.15.20//NONSGML v1.0//EN
CALSCALE:GREGORIAN
METHOD:PUBLISH
X-WR-CALNAME:Château Pépusque
X-ORIGINAL-URL:https://www.chateau-pepusque.fr
X-WR-CALDESC:Évènements pour Château Pépusque
REFRESH-INTERVAL;VALUE=DURATION:PT1H
X-Robots-Tag:noindex
X-PUBLISHED-TTL:PT1H
BEGIN:VTIMEZONE
TZID:Europe/Paris
BEGIN:DAYLIGHT
TZOFFSETFROM:+0100
TZOFFSETTO:+0200
TZNAME:CEST
DTSTART:20230326T010000
END:DAYLIGHT
BEGIN:STANDARD
TZOFFSETFROM:+0200
TZOFFSETTO:+0100
TZNAME:CET
DTSTART:20231029T010000
END:STANDARD
BEGIN:DAYLIGHT
TZOFFSETFROM:+0100
TZOFFSETTO:+0200
TZNAME:CEST
DTSTART:20240331T010000
END:DAYLIGHT
BEGIN:STANDARD
TZOFFSETFROM:+0200
TZOFFSETTO:+0100
TZNAME:CET
DTSTART:20241027T010000
END:STANDARD
BEGIN:DAYLIGHT
TZOFFSETFROM:+0100
TZOFFSETTO:+0200
TZNAME:CEST
DTSTART:20250330T010000
END:DAYLIGHT
BEGIN:STANDARD
TZOFFSETFROM:+0200
TZOFFSETTO:+0100
TZNAME:CET
DTSTART:20251026T010000
END:STANDARD
END:VTIMEZONE
BEGIN:VEVENT
DTSTART;TZID=Europe/Paris:20240128T100000
DTEND;TZID=Europe/Paris:20240128T130000
DTSTAMP:20260423T034103
CREATED:20240112T095434Z
LAST-MODIFIED:20240112T110800Z
UID:4047-1706436000-1706446800@www.chateau-pepusque.fr
SUMMARY:Vente de vin - Castres
DESCRIPTION:Chers amateurs de vin\, venez retrouver Christophe Urios\, dimanche 28 Janvier pour une vente de vin à Castres ! \nDécouvrez nos vins de terroir certifiés  » Haute valeur environnementale 3″ et « Terra Vitis ». \nNous nous trouverons au Parvis des Halles\, place Pierre Fabre\, de 10h à 13h. En espérant vous y trouver nombreux. \nA très vite\, \nL’équipe de Pépusque.
URL:https://www.chateau-pepusque.fr/event/vente-de-vin-castres/
LOCATION:Parvis des Halles\, Place Pierre Fabre\, Castres\, 81100
END:VEVENT
END:VCALENDAR