BEGIN:VCALENDAR
VERSION:2.0
PRODID:-//Château Pépusque - ECPv6.15.20//NONSGML v1.0//EN
CALSCALE:GREGORIAN
METHOD:PUBLISH
X-WR-CALNAME:Château Pépusque
X-ORIGINAL-URL:https://www.chateau-pepusque.fr
X-WR-CALDESC:Évènements pour Château Pépusque
REFRESH-INTERVAL;VALUE=DURATION:PT1H
X-Robots-Tag:noindex
X-PUBLISHED-TTL:PT1H
BEGIN:VTIMEZONE
TZID:Europe/Paris
BEGIN:DAYLIGHT
TZOFFSETFROM:+0100
TZOFFSETTO:+0200
TZNAME:CEST
DTSTART:20230326T010000
END:DAYLIGHT
BEGIN:STANDARD
TZOFFSETFROM:+0200
TZOFFSETTO:+0100
TZNAME:CET
DTSTART:20231029T010000
END:STANDARD
BEGIN:DAYLIGHT
TZOFFSETFROM:+0100
TZOFFSETTO:+0200
TZNAME:CEST
DTSTART:20240331T010000
END:DAYLIGHT
BEGIN:STANDARD
TZOFFSETFROM:+0200
TZOFFSETTO:+0100
TZNAME:CET
DTSTART:20241027T010000
END:STANDARD
BEGIN:DAYLIGHT
TZOFFSETFROM:+0100
TZOFFSETTO:+0200
TZNAME:CEST
DTSTART:20250330T010000
END:DAYLIGHT
BEGIN:STANDARD
TZOFFSETFROM:+0200
TZOFFSETTO:+0100
TZNAME:CET
DTSTART:20251026T010000
END:STANDARD
END:VTIMEZONE
BEGIN:VEVENT
DTSTART;VALUE=DATE:20240301
DTEND;VALUE=DATE:20240304
DTSTAMP:20260423T002629
CREATED:20240213T145903Z
LAST-MODIFIED:20240213T150234Z
UID:4082-1709251200-1709510399@www.chateau-pepusque.fr
SUMMARY:38ème Festival des Vins - Laigné
DESCRIPTION:Le Club des Loisirs de Laigné-en-Belin est principalement connu pour son Festival des Vins et de la Gastronomie qui se déroule chaque premier weekend du mois de Mars. Lors de cet évènement\, une centaine d’exposants dont soixante-cinq vignerons font déguster gratuitement le fruit de leur production. A tout juste dix minutes du Mans\, c’est plus de 13 000 visiteurs qui parcourent les allées du festival durant trois jours. \nSur place\, vous pourrez faire une pause auprès dans deux restaurants qui vous accueillent tout au long de la journée. \nLe prochain Festival des Vins et de la gastronomie se déroulera avec le Château Pépusque les vendredi 1er samedi 2 et dimanche 3 Mars 2024 \nTéléchargez vos invitations ici \nLe prochain Festival des Vins se déroulera : \n\nVendredi 1er mars : 10h – 20h\nSamedi 2 mars : 10h – 19h\nDimanche 3 mars : 10h – 18h
URL:https://www.chateau-pepusque.fr/event/38eme-festival-des-vins-laigne/
END:VEVENT
BEGIN:VEVENT
DTSTART;VALUE=DATE:20240301
DTEND;VALUE=DATE:20240304
DTSTAMP:20260423T002629
CREATED:20240214T145623Z
LAST-MODIFIED:20240220T091537Z
UID:4088-1709251200-1709510399@www.chateau-pepusque.fr
SUMMARY:Salon du Bien-Vivre et Bien-Manger / Saint-Cannat
DESCRIPTION:Salon du Bien-Vivre et Bien-Manger\nCe rendez-vous exceptionnel célèbre la fusion parfaite entre la gastronomie\, de la bière\, du bon vin mais encore le côté bien-être se joindra à nous pour cet évènement. Notre objectif est de vous offrir une expérience sensorielle unique\, mettant en lumière des saveurs exquises et des pratiques alimentaires mais pas que\, qui favorisent le bien-vivre. Que vous soyez passionné de cuisine\, amateur de bonnes tables ou de bonnes cuvés\, mais encore charcuterie\, fromage…  cet événement est fait pour vous. \nJoignez-vous à nous du 1er au 3 mars 2024 pour une expérience gastronomique inoubliable à l’Aixagone de Saint-Cannat\, idéalement situé à côté du Village des Automates. Plongez dans un univers de saveurs\, de découvertes culinaires\, de bien-être et d’animations musicales. Réservez ces dates et préparez-vous à une célébration mémorable du bien-vivre et du bien-mangé. \nTéléchargez vos invitations pour nous retrouver !
URL:https://www.chateau-pepusque.fr/event/salon-du-bien-vivre-et-bien-manger-saint-cannat/
END:VEVENT
BEGIN:VEVENT
DTSTART;VALUE=DATE:20240308
DTEND;VALUE=DATE:20240312
DTSTAMP:20260423T002629
CREATED:20240220T143439Z
LAST-MODIFIED:20240220T143439Z
UID:4096-1709856000-1710201599@www.chateau-pepusque.fr
SUMMARY:Aux Vignobles ! - Vannes
DESCRIPTION:Du 8 au 11 mars\, le salon Aux Vignobles ! 2024 fait étape à Vannes\, où il s’ouvre\, à nouveau\, sur le monde de l’artisanat gastronomique et viticole. Pour cette 31e édition de l’événement\, 130 artisans et producteurs venus de toute la France donnent rendez-vous aux gourmands\, gourmets ou simples curieux. \nNotre équipe sera présente pour vous faire découvrir et déguster nos vins de terroir certifiés “Haute Valeur Environnementale 3” et “Terra Titis” les :  \n\nLe vendredi 8 mars de 17h à 21h\nLe samedi 9 mars de 10h à 20h\nLe dimanche 10 mars de 10h à 19h\nLe lundi 11 mars de 10h à 17h\n\nNous espérons vous y voir nombreux et pouvoir profiter d’un moment de convivialité à vos côtés ! \nA très vite\, \nL’équipe de Pépusque.
URL:https://www.chateau-pepusque.fr/event/aux-vignobles-vannes-2/
LOCATION:Le Chorus\, Parc du Golf\, Vannes\, 56000
END:VEVENT
BEGIN:VEVENT
DTSTART;TZID=Europe/Paris:20240313T080000
DTEND;TZID=Europe/Paris:20240313T170000
DTSTAMP:20260423T002629
CREATED:20240313T130510Z
LAST-MODIFIED:20240313T130510Z
UID:4137-1710316800-1710349200@www.chateau-pepusque.fr
SUMMARY:Aux Vignobles ! - Metz
DESCRIPTION:VIVEZ L’EXPERIENCE AUX VIGNOBLES ! \n\n\n\n\n\n\n\nEntrez dans l’univers Aux Vignobles ! Découvrez ou redécouvrez les pépites des différentes régions de France.. Apprenez davantage sur le savoir-faire et l’histoire de ces produits de caractère… \nLe Château Pépusque se tient prêt à vous accueillir lors du salon Aux Vignobles les : \n\nVendredi 5 avril de 10h à 20h\nSamedi 6 avril de 10h à 20h\nDimanche 7 avril de 10h à 18h\n\nOù notre équipe sera présente pour vous faire découvrir et déguster nos vins de terroir certifiés “Haute Valeur Environnementale 3” et “Terra Titis”. \nNous espérons vous y voir nombreux et pouvoir profiter d’un moment de convivialité à vos côtés ! \nA très vite\, \nL’équipe de Pépusque.
URL:https://www.chateau-pepusque.fr/event/aux-vignobles-metz-2/
END:VEVENT
BEGIN:VEVENT
DTSTART;TZID=Europe/Paris:20240313T080000
DTEND;TZID=Europe/Paris:20240313T170000
DTSTAMP:20260423T002629
CREATED:20240313T130905Z
LAST-MODIFIED:20240313T130905Z
UID:4140-1710316800-1710349200@www.chateau-pepusque.fr
SUMMARY:Messe 24 mars
DESCRIPTION:Nous sommes ravis de vous proposer de participer à notre Messe du dimanche 24 mars à partir de 11h30 ! \n\n\n\n Pour régaler vos papilles\, le foodtruck BEEF OR FISH sera présent ! \n\n\n Musique par le groupe Eko Eko pour mettre le feu au Château.\n\n\nEntrée gratuite ! On vous attend nombreux !\n\n\n Inscription obligatoire au 06 13 16 03 44 ou contact@chateau-pepusque.fr\n\n\n\nL’équipe du Château Pépusque
URL:https://www.chateau-pepusque.fr/event/messe-24-mars/
END:VEVENT
BEGIN:VEVENT
DTSTART;VALUE=DATE:20240322
DTEND;VALUE=DATE:20240325
DTSTAMP:20260423T002629
CREATED:20240220T150058Z
LAST-MODIFIED:20240313T103007Z
UID:4101-1711065600-1711324799@www.chateau-pepusque.fr
SUMMARY:Plein les Papilles !
DESCRIPTION:Les 22\, 23 et 24 mars 2024\, place à l’art de la gastronomie et de l’œnologie au sein du Grand Hall de Valexpo avec le salon Plein les Papilles ! Découvrez ses multiples exposants\, artisans\, producteurs et vignerons venus de toute la France et parfois d’ailleurs pour vous faire déguster leur production et autre sélection qui raviront vos papilles. \nOù notre équipe sera présente pour vous faire découvrir et déguster nos vins de terroir certifiés “Haute Valeur Environnementale 3” et “Terra Titis” les : \n\nLe Vendredi 22 mars de 15h à 21h\nLe Samedi 23 mars de 10h à 20h\nLe Dimanche 24 mars de 10h à 18h\n\nTéléchargez vos invitations gratuites en cliquant ici ! \nNous espérons vous y voir nombreux et pouvoir profiter d’un moment de convivialité à vos côtés ! \nA très vite\, \nL’équipe de Pépusque.
URL:https://www.chateau-pepusque.fr/event/plein-les-papilles/
LOCATION:Valexpo\, 88 cours de Verdun\, Oyonnax\, 01110\, France
END:VEVENT
BEGIN:VEVENT
DTSTART;VALUE=DATE:20240322
DTEND;VALUE=DATE:20240325
DTSTAMP:20260423T002629
CREATED:20240220T152322Z
LAST-MODIFIED:20240313T102719Z
UID:4104-1711065600-1711324799@www.chateau-pepusque.fr
SUMMARY:La Fête du Vin et de la Gastronomie - Bacchus
DESCRIPTION:Et si nous nous retrouvions autour d’un évènement exquis à la fête Bacchus\, célébration ultime de la gastronomie et du vin à Toulon ! \nL’équipe du Château Pépusque sera présente les : \n\nVendredi 22 mars de 11h à 19h.\nSamedi 23 mars de 10h à 19h30.\nDimanche 24 mars de 10h à 18h30.\n\nAfin de vous faire déguster nos vins de terroir certifiés “Haute Valeur Environnementale 3” et “Terra Vitis”. \nTéléchargez vos invitations en cliquant ici ! \nNous avons hâte de partager un week-end exceptionnel avec vous à la fête de Bacchus. Votre présence enrichira sans aucun doute les festivités\, et nous sommes impatients de faire de cet événement une expérience mémorable pour vous. \nA très vite\, \nL’équipe de Pépusque.
URL:https://www.chateau-pepusque.fr/event/la-fete-du-vin-et-de-la-gastronomie-bacchus/
LOCATION:Bacchus\, Place d'Armes\, Toulon\, 83000
END:VEVENT
END:VCALENDAR