BEGIN:VCALENDAR
VERSION:2.0
PRODID:-//Château Pépusque - ECPv6.15.20//NONSGML v1.0//EN
CALSCALE:GREGORIAN
METHOD:PUBLISH
X-ORIGINAL-URL:https://www.chateau-pepusque.fr
X-WR-CALDESC:Évènements pour Château Pépusque
REFRESH-INTERVAL;VALUE=DURATION:PT1H
X-Robots-Tag:noindex
X-PUBLISHED-TTL:PT1H
BEGIN:VTIMEZONE
TZID:Europe/Paris
BEGIN:DAYLIGHT
TZOFFSETFROM:+0100
TZOFFSETTO:+0200
TZNAME:CEST
DTSTART:20230326T010000
END:DAYLIGHT
BEGIN:STANDARD
TZOFFSETFROM:+0200
TZOFFSETTO:+0100
TZNAME:CET
DTSTART:20231029T010000
END:STANDARD
BEGIN:DAYLIGHT
TZOFFSETFROM:+0100
TZOFFSETTO:+0200
TZNAME:CEST
DTSTART:20240331T010000
END:DAYLIGHT
BEGIN:STANDARD
TZOFFSETFROM:+0200
TZOFFSETTO:+0100
TZNAME:CET
DTSTART:20241027T010000
END:STANDARD
BEGIN:DAYLIGHT
TZOFFSETFROM:+0100
TZOFFSETTO:+0200
TZNAME:CEST
DTSTART:20250330T010000
END:DAYLIGHT
BEGIN:STANDARD
TZOFFSETFROM:+0200
TZOFFSETTO:+0100
TZNAME:CET
DTSTART:20251026T010000
END:STANDARD
END:VTIMEZONE
BEGIN:VEVENT
DTSTART;VALUE=DATE:20240405
DTEND;VALUE=DATE:20240408
DTSTAMP:20260422T230931
CREATED:20240319T125528Z
LAST-MODIFIED:20240319T125528Z
UID:4146-1712275200-1712534399@www.chateau-pepusque.fr
SUMMARY:Aux Vignobles ! - Metz
DESCRIPTION:« Du 5 au 7 avril\, le Salon Aux Vignoble ! 2024 fait étape à Metz\, où il s’ouvre\, à nouveau\, sur le monde de l’artisanat gastronomique et viticole. Pour cette 24e édition de l’événement\, 90 artisans et producteurs venus de toute la France donnent rendez-vous aux gourmands\, gourmets ou simples curieux. » \nLe Château Pépusque se tient prêt à vous accueillir au STAND C11 lors du salon Aux Vignobles les : \n\nVendredi 5 avril de 10h à 20h\nSamedi 6 avril de 10h à 20h\nDimanche 7 avril de 10h à 18h\n\nOù notre équipe sera présente pour vous faire découvrir et déguster nos vins de terroir certifiés “Haute Valeur Environnementale 3” et “Terra Titis”. \nTéléchargez vos invitations en cliquant ici ! \nNous espérons vous y voir nombreux et pouvoir profiter d’un moment de convivialité à vos côtés ! \nA très vite\, \nL’équipe de Pépusque. \n 
URL:https://www.chateau-pepusque.fr/event/aux-vignobles-metz-3/
LOCATION:Metz Expo
END:VEVENT
BEGIN:VEVENT
DTSTART;VALUE=DATE:20240412
DTEND;VALUE=DATE:20240415
DTSTAMP:20260422T230931
CREATED:20240313T124958Z
LAST-MODIFIED:20240410T130005Z
UID:4132-1712880000-1713139199@www.chateau-pepusque.fr
SUMMARY:15ÈME Salon des vins de France - Cognac
DESCRIPTION:Venez rencontrer plus de 50 viticulteurs français\, dans la plus grande convivialité. \n50 viticulteurs vous proposent de découvrir leurs productions\, dont le Château Pépusque qui se tient prêt à vous accueillir lors du salon des vins de France les : \n\nVendredi 12 avril 2024 de 10h à 19h.\nSamedi 13 avril 2024 de 10h à 20h.\nDimanche 14 avril 2024 de 10h à 18h.\n\nOù notre équipe sera présente pour vous faire découvrir et déguster nos vins de terroir certifiés “Haute Valeur Environnementale 3” et “Terra Titis”. \nTéléchargez vos invitations en cliquant ici ! \nNous espérons vous y voir nombreux et pouvoir profiter d’un moment de convivialité à vos côtés ! \nA très vite\, \nL’équipe de Pépusque.
URL:https://www.chateau-pepusque.fr/event/15eme-salon-des-vins-de-france-cognac/
LOCATION:Esplanade de la Croix Montamette\, Boulevard Oscar Planat\, Cognac\, 16100
ATTACH;FMTTYPE=image/jpeg:https://www.chateau-pepusque.fr/wp-content/uploads/2024/03/Cognac.jpg
END:VEVENT
BEGIN:VEVENT
DTSTART;TZID=Europe/Paris:20240428T113000
DTEND;TZID=Europe/Paris:20240428T150000
DTSTAMP:20260422T230931
CREATED:20240409T080314Z
LAST-MODIFIED:20240409T080952Z
UID:4177-1714303800-1714316400@www.chateau-pepusque.fr
SUMMARY:Messe - MARCO
DESCRIPTION:MARCO\nDimanche 28 avril – 11h30 à 15h\nChers amis de Pépusque\, \nNous avons le plaisir de vous inviter à notre événement\, la Messe MARCO\, qui se déroulera au Château Pépusque le 28 avril prochain\, de 11h30 à 15h. Comme tous les ans\, cette journée sera dédiée à MARCO\, une personne qui a marqué notre histoire ! \nAu programme de cette journée exceptionnelle\, vous aurez l’occasion de découvrir nos vins du Minervois\, tout en profitant d’un délicieux repas préparé par le foodtruck\, Le Camion qui grille. De plus\, le groupe de musique Beautifioul Duo sera présent pour l’ambiance musicale. \nNous vous invitons également à participer au dress code de la journée en ajoutant une touche de jaune à votre tenue ! \nPour participer à cet événement gratuit\, l’inscription est obligatoire. Vous pouvez réserver votre place dès maintenant en nous contactant au 06 13 16 03 44 ou en envoyant un e-mail à contact@chateau-pepusque.fr. \nNous espérons vous accueillir nombreux pour partager ce moment de partage et de convivialité avec vous. \nAmicalement\, \nL’équipe du Château Pépusque
URL:https://www.chateau-pepusque.fr/event/messe-marco/
END:VEVENT
END:VCALENDAR