BEGIN:VCALENDAR
VERSION:2.0
PRODID:-//Château Pépusque - ECPv6.15.20//NONSGML v1.0//EN
CALSCALE:GREGORIAN
METHOD:PUBLISH
X-WR-CALNAME:Château Pépusque
X-ORIGINAL-URL:https://www.chateau-pepusque.fr
X-WR-CALDESC:Évènements pour Château Pépusque
REFRESH-INTERVAL;VALUE=DURATION:PT1H
X-Robots-Tag:noindex
X-PUBLISHED-TTL:PT1H
BEGIN:VTIMEZONE
TZID:Europe/Paris
BEGIN:DAYLIGHT
TZOFFSETFROM:+0100
TZOFFSETTO:+0200
TZNAME:CEST
DTSTART:20230326T010000
END:DAYLIGHT
BEGIN:STANDARD
TZOFFSETFROM:+0200
TZOFFSETTO:+0100
TZNAME:CET
DTSTART:20231029T010000
END:STANDARD
BEGIN:DAYLIGHT
TZOFFSETFROM:+0100
TZOFFSETTO:+0200
TZNAME:CEST
DTSTART:20240331T010000
END:DAYLIGHT
BEGIN:STANDARD
TZOFFSETFROM:+0200
TZOFFSETTO:+0100
TZNAME:CET
DTSTART:20241027T010000
END:STANDARD
BEGIN:DAYLIGHT
TZOFFSETFROM:+0100
TZOFFSETTO:+0200
TZNAME:CEST
DTSTART:20250330T010000
END:DAYLIGHT
BEGIN:STANDARD
TZOFFSETFROM:+0200
TZOFFSETTO:+0100
TZNAME:CET
DTSTART:20251026T010000
END:STANDARD
END:VTIMEZONE
BEGIN:VEVENT
DTSTART;VALUE=DATE:20240705
DTEND;VALUE=DATE:20240706
DTSTAMP:20260422T192540
CREATED:20240417T091338Z
LAST-MODIFIED:20240417T124753Z
UID:4186-1720137600-1720223999@www.chateau-pepusque.fr
SUMMARY:Festival de Pépusque
DESCRIPTION:La soirée Disco et Paillettes à Pépusque de 19h00 à 00h00\n  \nEmbarquez pour une soirée inoubliable qui marque l’ouverture du Festival de Pépusque\, notre soirée Disco et Paillettes ! \nPour cette soirée\, notre partenaire L’Oustal de Carquet sera en vedette pour le repas.  \nDJ Bob Dassin sera de la partie pour vous enflammez sur les musiques folles des années 80. La piste n’attend plus que vous pour une soirée qui s’annonce mémorable.  \nPour cet événement\, on espère que vous jouerez le jeu pour le Dress-Code qui exige une touche de paillettes ! \nRéservez vite votre place et inscrivez vous rapidement\, les places s’envolent vite ! \nInscription obligatoire ! Vous pouvez nous contacter au : 06 13 16 03 44 ou contact@chateau-pepusque.fr \n  \n 
URL:https://www.chateau-pepusque.fr/event/festival-de-pepusque-2/
LOCATION:Château Pépusque\, 3 rue de l'égalité\, Pépieux\, 11700
ATTACH;FMTTYPE=image/png:https://www.chateau-pepusque.fr/wp-content/uploads/2024/04/FESTIVAL-JOURS-Publication-Instagram.png
ORGANIZER;CN="Ch%C3%A2teau P%C3%A9pusque":MAILTO:contact@chateau-pepusque.fr
END:VEVENT
BEGIN:VEVENT
DTSTART;VALUE=DATE:20240706
DTEND;VALUE=DATE:20240707
DTSTAMP:20260422T192540
CREATED:20240417T094256Z
LAST-MODIFIED:20240620T110628Z
UID:4191-1720224000-1720310399@www.chateau-pepusque.fr
SUMMARY:Festival de Pépusque
DESCRIPTION:Le marché des  producteurs à Pépusque de 10h00 à 13h00\n\nVenez découvrir la richesse des saveurs de notre région au cœur de notre petit marché de producteurs\, ouvert à tous.  \nRencontrez des artisans passionnés derrière chaque produit et plongez dans une expérience gustative authentique\, humaine et conviviale. \nLe Château Pépusque et ses amis producteurs espèrent vous voir nombreux lors de ce marché des producteurs\, une façon de soutenir les artisans et producteurs de notre magnifique région et de ce superbe terroir. \nL’entrée est gratuite\, vous pourrez profiter d’un déjeuner sur le pouce lors de cette matinée accueillante. \nAlors ramenez vos sacs cabas\, vos petits paniers\, et découvrez des commerçant passionnés ! \nRestauration possible sur place !
URL:https://www.chateau-pepusque.fr/event/festival-de-pepusque-3/
LOCATION:Château Pépusque\, 3 rue de l'égalité\, Pépieux\, 11700
ATTACH;FMTTYPE=image/png:https://www.chateau-pepusque.fr/wp-content/uploads/2024/04/marche.png
ORGANIZER;CN="Ch%C3%A2teau P%C3%A9pusque":MAILTO:contact@chateau-pepusque.fr
END:VEVENT
BEGIN:VEVENT
DTSTART;VALUE=DATE:20240706
DTEND;VALUE=DATE:20240707
DTSTAMP:20260422T192540
CREATED:20240417T122357Z
LAST-MODIFIED:20240417T122730Z
UID:4200-1720224000-1720310399@www.chateau-pepusque.fr
SUMMARY:Festival de Pépusque
DESCRIPTION:Les olympiades Pépusquiennes de 15h00 à 17h00\n  \nEmbarquez pour une aventure épique où l’esprit compétitif rencontre le plaisir du jeu ! \n\nVenez relevez des défis\, testez vos compétences et forgez des souvenirs inoubliables aux Olympiades du Festival de Pépusque. Entre amis\, entre collègues ou en famille ! \nC’est un moment idéal pour créer un véritable esprit d’équipe. \nInscrivez-vous par équipe de 6 dès maintenant\, et profitez de l’encadrement de Christophe Urios pour une expérience amusante qui laissera des traces de victoire dans vos cœurs ! \n  \n06 13 16 03 44 ou contact@chateau-pepusque.fr
URL:https://www.chateau-pepusque.fr/event/festival-de-pepusque/
LOCATION:Château Pépusque\, 3 rue de l'égalité\, Pépieux\, 11700
ATTACH;FMTTYPE=image/png:https://www.chateau-pepusque.fr/wp-content/uploads/2024/04/olympiades.png
END:VEVENT
BEGIN:VEVENT
DTSTART;VALUE=DATE:20240706
DTEND;VALUE=DATE:20240707
DTSTAMP:20260422T192540
CREATED:20240417T134122Z
LAST-MODIFIED:20240620T110747Z
UID:4209-1720224000-1720310399@www.chateau-pepusque.fr
SUMMARY:Festival de Pépusque
DESCRIPTION:La bodéga de Pépusque de 19h00 à 00h00\n  \nLaissez place à la dernière soirée du Festival\, notre Bodéga de Pépusque. \nPour cette soirée\, notre équipe s’occupera d’un braséro\, de quoi régaler vos papilles et profiter ensemble d’un moment de pure convivialité. \nLes Z’improvistes viendront vous enflammer autour de ce braséro avec  des rythmes endiablés sous des airs de fêtes. \nAmbiance chaleureuse garantie ! \nPour cette dernière soirée\, on espère que vous jouerez le jeu pour le Dress-Code qui exige une tenue haute en couleurs ! \nN’oubliez pas de réserver votre place pour être certains d’être de la partie au : 06 13 16 03 44 ou contact@chateau-pepusque.fr
URL:https://www.chateau-pepusque.fr/event/festival-de-pepusque-4/
LOCATION:Château Pépusque\, 3 rue de l'égalité\, Pépieux\, 11700
ATTACH;FMTTYPE=image/png:https://www.chateau-pepusque.fr/wp-content/uploads/2024/04/bodega.png
ORGANIZER;CN="Ch%C3%A2teau P%C3%A9pusque":MAILTO:contact@chateau-pepusque.fr
END:VEVENT
BEGIN:VEVENT
DTSTART;VALUE=DATE:20240707
DTEND;VALUE=DATE:20240708
DTSTAMP:20260422T192540
CREATED:20240417T141832Z
LAST-MODIFIED:20240620T111239Z
UID:4214-1720310400-1720396799@www.chateau-pepusque.fr
SUMMARY:Festival de Pépusque
DESCRIPTION:COMPLET\nL’art de la table de 12h00 à 15h00\n\nPlongez dans une expérience culinaire inédite au cœur du Château Pépusque\, pour terminer en beauté ces trois jours qui s’annoncent incroyables. \nUn menu soigneusement orchestré par un traiteur passionné de la région\, vous attend.  \nLaissez-vous surprendre par des accords parfaits pour sublimer chaque bouchée. Découvrez des mariages inattendus qui révèlent tout le caractère de nos crus.  \nImaginez-vous entouré par Christophe Urios et son équipe chaleureuse\, prêts à partager à vos côtés un repas mémorable.  \nVibrez au rythme de musiques jazzy durant votre repas\, créant une ambiance musicale unique et pleine de charme.  \nRéservez votre place pour cette expérience conviviale et rejoignez-nous le temps d’un déjeuner où la passion pour la cuisine\, les vins et le terroir se lient d’amitié.  \nUne occasion de partager un véritable festin au cœur du Château Pépusque. \nFoncez réserver votre place au 06 13 16 03 44 ou contact@chateau-pepusque.fr \n  \nLaissons place au menu du jour : \n\n\n\n  \nMises en bouche \nApéritif avec ses mini burgers à crème de cèpes & au jambon serrano. Mini navette\, tarama saumon fumée. Concassée de surimi sauce cocktail avec ses œufs de maquereau fumé. Tartelette sablée à la crème de poivron rouge & framboise. \n  \n\n\nEntrée \nCassolette de fruits de mer dans sa coque briochée. \n  \n\n\nPlat \nFilet de canette braisé\, sauce cognac & morilles accompagné de son gratin dauphinois et son écrasé de rattes au Cantal truffé. \n  \n\n\nFromages \nBrie\, Cantal\, Cabécou\, Tomme de l’Aveyron\, Bleu des Causses. \n  \n\n\nDessert \nTourbillon poire & caramel accompagné de son craquelin aux amendes. \n  \n\nAccords mets et vins. \n 
URL:https://www.chateau-pepusque.fr/event/festival-de-pepusque-5/
LOCATION:Château Pépusque\, 3 rue de l'égalité\, Pépieux\, 11700
ATTACH;FMTTYPE=image/png:https://www.chateau-pepusque.fr/wp-content/uploads/2024/04/bodega-1.png
ORGANIZER;CN="Ch%C3%A2teau P%C3%A9pusque":MAILTO:contact@chateau-pepusque.fr
END:VEVENT
BEGIN:VEVENT
DTSTART;VALUE=DATE:20240720
DTEND;VALUE=DATE:20240722
DTSTAMP:20260422T192540
CREATED:20240710T074835Z
LAST-MODIFIED:20240710T074835Z
UID:4249-1721433600-1721606399@www.chateau-pepusque.fr
SUMMARY:Foire aux vins et aux fromages
DESCRIPTION:Le Château Pépusque vous donne rendez-vous à la Foire nationale aux vins et aux fromages qui se tiendra à Besse-et-Saint-Anastaise. \n\nSamedi 20 juillet à partir de 10h00\nDimanche 21 juillet à partir de de 10h00\n\nAu rendez-vous les visiteurs pourront déguster des vins d’exception\, découvrir de nouveaux fromages et échanger avec les producteurs sur leurs savoir-faire et leurs secrets de fabrication. \nEn espérant vous y voir nombreux pour vous faire découvrir nos vins de terroir\, en Cru Minervois et Cru La Livinière\, certifiés “Terra Vitis” et “Haute Valeur Environnementale”. \nAu plaisir de trinquer ensemble\, \nL’équipe du Château Pépusque.
URL:https://www.chateau-pepusque.fr/event/foire-aux-vins-et-aux-fromages/
ATTACH;FMTTYPE=image/jpeg:https://www.chateau-pepusque.fr/wp-content/uploads/2024/07/Besse-2.jpg
END:VEVENT
END:VCALENDAR