BEGIN:VCALENDAR
VERSION:2.0
PRODID:-//Château Pépusque - ECPv6.15.20//NONSGML v1.0//EN
CALSCALE:GREGORIAN
METHOD:PUBLISH
X-ORIGINAL-URL:https://www.chateau-pepusque.fr
X-WR-CALDESC:Évènements pour Château Pépusque
REFRESH-INTERVAL;VALUE=DURATION:PT1H
X-Robots-Tag:noindex
X-PUBLISHED-TTL:PT1H
BEGIN:VTIMEZONE
TZID:Europe/Paris
BEGIN:DAYLIGHT
TZOFFSETFROM:+0100
TZOFFSETTO:+0200
TZNAME:CEST
DTSTART:20230326T010000
END:DAYLIGHT
BEGIN:STANDARD
TZOFFSETFROM:+0200
TZOFFSETTO:+0100
TZNAME:CET
DTSTART:20231029T010000
END:STANDARD
BEGIN:DAYLIGHT
TZOFFSETFROM:+0100
TZOFFSETTO:+0200
TZNAME:CEST
DTSTART:20240331T010000
END:DAYLIGHT
BEGIN:STANDARD
TZOFFSETFROM:+0200
TZOFFSETTO:+0100
TZNAME:CET
DTSTART:20241027T010000
END:STANDARD
BEGIN:DAYLIGHT
TZOFFSETFROM:+0100
TZOFFSETTO:+0200
TZNAME:CEST
DTSTART:20250330T010000
END:DAYLIGHT
BEGIN:STANDARD
TZOFFSETFROM:+0200
TZOFFSETTO:+0100
TZNAME:CET
DTSTART:20251026T010000
END:STANDARD
END:VTIMEZONE
BEGIN:VEVENT
DTSTART;VALUE=DATE:20240803
DTEND;VALUE=DATE:20240805
DTSTAMP:20260422T174524
CREATED:20240722T081236Z
LAST-MODIFIED:20240722T081236Z
UID:4253-1722643200-1722815999@www.chateau-pepusque.fr
SUMMARY:Fourmofolies - Ambert
DESCRIPTION:Le Château Pépusque vous donne rendez-vous aux Fourmofolies les 3 & 4 août au centre ville d’Ambert : \n\nSamedi 3 août de 10h00 à 00h00\nDimanche 4 août de 10h00 à 19h00\n\nLes entrées sont gratuites. Au rendez-vous : marché de terroir\, jeux pour petits et grands\, animations musicales en déambulations\, démonstration de fabrication\, dégustations\, spectacles équestres\, ferme en plein air\, course cycliste\, concours équestre… \nMais aussi une soirée de concerts gratuits le samedi soir ! En espérant vous y voir nombreux pour vous faire découvrir nos vins de terroir\, en Minervois et Cru La Livinière\, certifiés “Terra Vitis” et “Haute Valeur Environnementale”. \nAu plaisir de trinquer ensemble\, \nL’équipe du Château Pépusque.
URL:https://www.chateau-pepusque.fr/event/fourmofolies-ambert-2/
LOCATION:Ambert\, Ambert\, 63600
ATTACH;FMTTYPE=image/jpeg:https://www.chateau-pepusque.fr/wp-content/uploads/2024/07/Ambert-2.jpg
END:VEVENT
BEGIN:VEVENT
DTSTART;TZID=Europe/Paris:20240804T110000
DTEND;TZID=Europe/Paris:20240804T180000
DTSTAMP:20260422T174524
CREATED:20240723T094206Z
LAST-MODIFIED:20240723T094322Z
UID:4259-1722769200-1722794400@www.chateau-pepusque.fr
SUMMARY:Fête des vins de Siran
DESCRIPTION:Chers amis amateurs de vin\, \nNous avons le plaisir de vous convier à venir à un événement exceptionnel : La première Fête des Vins de Siran\, qui se tiendra le 4 août prochain. Au programme : \n\nDégustation et vente de vins\nVente de produits locaux\nFromages\, charcuterie\, huile d’olive et vente de coquillages\nAnimations musicales\nExpositions et ventes ardoises\, tableaux et sculptures\nRestauration\nTombola\n\nEn tant que passionnés de vins et amis de notre domaine viticole\, nous serions honorés de vous accueillir à cette journée festive où le vin est à l’honneur. Nous nous réjouissons de vous retrouver à Siran pour partager ensemble des moments inoubliables autour du vin ! \nL’équipe du Château Pépusque.
URL:https://www.chateau-pepusque.fr/event/fete-des-vins-de-siran/
LOCATION:Centre du village\, Siran\, 34210\, France
ATTACH;FMTTYPE=image/jpeg:https://www.chateau-pepusque.fr/wp-content/uploads/2024/07/1.jpg
END:VEVENT
BEGIN:VEVENT
DTSTART;TZID=Europe/Paris:20240811T113000
DTEND;TZID=Europe/Paris:20240811T150000
DTSTAMP:20260422T174524
CREATED:20240729T083054Z
LAST-MODIFIED:20240729T083107Z
UID:4267-1723375800-1723388400@www.chateau-pepusque.fr
SUMMARY:Messe - La Vie en Rosé
DESCRIPTION:LA VIE EN ROSÉ \nNous avons le plaisir de vous convier à notre messe « La Vie en Rosé » au Château Pépusque. Rejoignez nous pour une journée inoubliable remplie de convivialité et de bonne humeur ! \nDate : Dimanche 11 août à partir de 11h30  \nTarifs : 15€/personne \nDress-code : Portez votre plus beau bob ! \nProgramme de la journée : \nVerre de rosé offert dès votre arrivée pour bien commencer la journée. \nDélicieux menu composé de salades fraîches\, de saucisses grillées et de melon. \nDégustation et vente de vins du Château Pépusque\, pour les amateurs de bon vin. \nParties de pétanque pour se divertir en plein air. \nAnimation musicale par le groupe « Let’s go« . \nInscription : contact@chateau-pepusque.fr ou 06 18 47 57 40 \nAu plaisir de trinquer ensemble ! \n 
URL:https://www.chateau-pepusque.fr/event/messe-la-vie-en-rose/
END:VEVENT
BEGIN:VEVENT
DTSTART;TZID=Europe/Paris:20240814T190000
DTEND;TZID=Europe/Paris:20240814T220000
DTSTAMP:20260422T174524
CREATED:20240731T135330Z
LAST-MODIFIED:20240731T135353Z
UID:4270-1723662000-1723672800@www.chateau-pepusque.fr
SUMMARY:ARGELIERS - Rythmes & Saveurs
DESCRIPTION:SOIRÉE « Rythmes & Saveurs » \nOn vous attend nombreux chez Bouchons & Tradition pour une soirée sympa et sans chichi  \nIl y aura du vin\, de la musique\, un brasero… BREF de quoi passer un bon moment  \nPetit plus Mr Christophe Urios nous fera l’honneur de sa présence le mercredi 14 août à partir de 19h  \nRendez-vous ici : Bouchons & Tradition\, La Garrigue Est\, 11120 Argeliers \nTéléphone : 04 68 45 05 51
URL:https://www.chateau-pepusque.fr/event/argeliers/
END:VEVENT
END:VCALENDAR